BEGIN:VCALENDAR
VERSION:2.0
PRODID:-//Gratis Uppsala - ECPv5.2.1//NONSGML v1.0//EN
CALSCALE:GREGORIAN
METHOD:PUBLISH
X-WR-CALNAME:Gratis Uppsala
X-ORIGINAL-URL:https://arkiv.gratisuppsala.se
X-WR-CALDESC:Händelser för Gratis Uppsala
BEGIN:VTIMEZONE
TZID:Europe/Stockholm
BEGIN:DAYLIGHT
TZOFFSETFROM:+0100
TZOFFSETTO:+0200
TZNAME:CEST
DTSTART:20170326T010000
END:DAYLIGHT
BEGIN:STANDARD
TZOFFSETFROM:+0200
TZOFFSETTO:+0100
TZNAME:CET
DTSTART:20171029T010000
END:STANDARD
END:VTIMEZONE
BEGIN:VEVENT
DTSTART;TZID=Europe/Stockholm:20171028T130000
DTEND;TZID=Europe/Stockholm:20171028T180000
DTSTAMP:20260421T152351
CREATED:20171016T112441Z
LAST-MODIFIED:20171016T112441Z
UID:19272-1509195600-1509213600@arkiv.gratisuppsala.se
SUMMARY:Vi minns våra döda - Upplandsmuseet
DESCRIPTION:Programdag om gravskick och gravvårdar\nLär dig mer om gravar och vårt sätt att närma oss döden\, på Upplandsmuseet. \nVisningar\, skaparverkstad och föredrag. \n\nVi lever här och nu. En stund på jorden. Vad väntar sedan? \nGravminnena berättar om människorna\, om status\, normer och värderingar\, om genus\, tidsanda och samhällsutveckling. Fram träder fascinerande historier och tragiska öden. En historiebok över människor och livsöden. Över flydda tider och händelser. \nTider \n\n12.00–17.00          Museet är öppet. Fri entré! \n12.00–16.30          Kaffe och kakor till försäljning \n13.00–16.00          Skaparverkstad för barn \n13.00                     Visning av utställningen Minns Att Jag Levat \n13.30                     Skelett och andra döingar. Barnvisning. \n13.30                     Död sedan länge – om forna tiders gravskick. Föredrag med arkeolog                                Malin Lucas. \n14.30                     Anna Margaretas lik 1646–1549. Dynamisk kamp om de dödas ben.                                  Föredrag med historiker Alexander Engström. \n15.00                    Skelett och andra döingar. Barnvisning. \n15.30                    Gravkonst och symboler. Föredrag med antikvarie Agnetha Pettersson. \n\n  \nBild från pixabay.com \n\n Dela evenemanget
URL:https://arkiv.gratisuppsala.se/event/programdag-om-gravskick-och-gravvardar/
LOCATION:Upplandsmuseet\, Fyristorg 2\, Uppsala\, Sverige
CATEGORIES:Höstlov,Kropp och Själ,Museum,Samhälle,Vuxen
ATTACH;FMTTYPE=image/jpeg:https://arkiv.gratisuppsala.se/wp-content/uploads/2017/10/cemetery-2773827_640.jpg
GEO:59.85895;17.634901
X-APPLE-STRUCTURED-LOCATION;VALUE=URI;X-ADDRESS=Upplandsmuseet Fyristorg 2 Uppsala Sverige;X-APPLE-RADIUS=500;X-TITLE=Fyristorg 2:geo:17.634901,59.85895
END:VEVENT
END:VCALENDAR