BEGIN:VCALENDAR
VERSION:2.0
PRODID:-//Gratis Uppsala - ECPv5.2.1//NONSGML v1.0//EN
CALSCALE:GREGORIAN
METHOD:PUBLISH
X-WR-CALNAME:Gratis Uppsala
X-ORIGINAL-URL:https://arkiv.gratisuppsala.se
X-WR-CALDESC:Händelser för Gratis Uppsala
BEGIN:VTIMEZONE
TZID:Europe/Stockholm
BEGIN:DAYLIGHT
TZOFFSETFROM:+0100
TZOFFSETTO:+0200
TZNAME:CEST
DTSTART:20200329T010000
END:DAYLIGHT
BEGIN:STANDARD
TZOFFSETFROM:+0200
TZOFFSETTO:+0100
TZNAME:CET
DTSTART:20201025T010000
END:STANDARD
END:VTIMEZONE
BEGIN:VEVENT
DTSTART;TZID=Europe/Stockholm:20200222T114500
DTEND;TZID=Europe/Stockholm:20200222T124500
DTSTAMP:20260420T021854
CREATED:20200219T115932Z
LAST-MODIFIED:20200219T115932Z
UID:42914-1582371900-1582375500@arkiv.gratisuppsala.se
SUMMARY:Prova på bandy med Unik flickor födda 06-08 och 09-10
DESCRIPTION:Prova på bandy med Unik flickor födda 06-08 och 09-10\nVill du åka skridskor? Prova på bandy med flicklag från Unik flickor 06-08 och flickor 09-10. Inga förkunskaper eller särskild utrustning krävs\, ta med hjälm och skridskor. \nDatum: Lördagen den 22 februari 2020\nTid: 11:45 – 12:45\nPlats: Studenternas bana 2\nFrågor: Skicka iväg ett mejl till f0608@unikbandy.se eller ring Pia Wacker 072-148 50 15\nÅlder: 8-13 år\nPris: Gratis \n\nUNIKs yngre flicklag i bandy\nHos dem satsar man på att flickorna ska ha kul och spela bandymatcher samtidigt. Laget fungerar som en naturlig fortsättning från\, eller en parallell aktivitet till\, deltagandet i BandyKul. Har du inte deltagit i bandykul så är det inte ett hinder\, förstås – alla är välkomna! \n\nBesök gärna länkarna nedan (externa länkar öppnas i ett nytt fönster/flik).\nProva på bandy? | Intervju – Gustav träffar Uppsala Skridskoklubb | Kommande event inom Sport & Motion | Kommande event på Sportlovet \nFoto: Pia Wacker \nDela evenemanget
URL:https://arkiv.gratisuppsala.se/event/prova-pa-bandy-med-unik-flickor-fodda-06-08-och-09-10/
LOCATION:Studenternas IP\, Ulleråkersvägen 6\, Uppsala\, 753 09\, Sverige
CATEGORIES:Ålderskategori,Anmälan / Kostnad,Barn,Eventkategori,Geografisk kategori,Gratis,Ingen föranmälan,Kunskap och Lärande,Natur,Prova-på,Skollov,Slottet - Sjukhuset,Sport & Motion,Sportlov,Ungdom,Uppsala,Uppsala Kommun,Utomhusaktivitet
ATTACH;FMTTYPE=image/jpeg:https://arkiv.gratisuppsala.se/wp-content/uploads/2020/02/B36D88E6-5CA9-4A8E-A4EB-2A71FABD61BA-e1582021856162.jpeg
ORGANIZER;CN="Unik%20BK":MAILTO:kansli@unikbandy.se
GEO:59.8467885;17.6492147
X-APPLE-STRUCTURED-LOCATION;VALUE=URI;X-ADDRESS=Studenternas IP Ulleråkersvägen 6 Uppsala 753 09 Sverige;X-APPLE-RADIUS=500;X-TITLE=Ulleråkersvägen 6:geo:17.6492147,59.8467885
END:VEVENT
END:VCALENDAR