BEGIN:VCALENDAR
VERSION:2.0
PRODID:-//Gratis Uppsala - ECPv5.2.1//NONSGML v1.0//EN
CALSCALE:GREGORIAN
METHOD:PUBLISH
X-WR-CALNAME:Gratis Uppsala
X-ORIGINAL-URL:https://arkiv.gratisuppsala.se
X-WR-CALDESC:Händelser för Gratis Uppsala
BEGIN:VTIMEZONE
TZID:Europe/Stockholm
BEGIN:DAYLIGHT
TZOFFSETFROM:+0100
TZOFFSETTO:+0200
TZNAME:CEST
DTSTART:20170326T010000
END:DAYLIGHT
BEGIN:STANDARD
TZOFFSETFROM:+0200
TZOFFSETTO:+0100
TZNAME:CET
DTSTART:20171029T010000
END:STANDARD
END:VTIMEZONE
BEGIN:VEVENT
DTSTART;TZID=Europe/Stockholm:20170403T140000
DTEND;TZID=Europe/Stockholm:20170403T180000
DTSTAMP:20260419T174119
CREATED:20170328T124602Z
LAST-MODIFIED:20170328T124602Z
UID:12900-1491228000-1491242400@arkiv.gratisuppsala.se
SUMMARY:Prova på jobbet som bibliotekarie för en timme!
DESCRIPTION:Prova på jobbet som bibliotekarie för en timme! \nTillsammans med barnbibliotekarien Marianne går du igenom hur ett bibliotek är uppbyggt och hur man vet var alla böckerna ska stå.\nOch när jobbet är fixat så fikar man såklart! \nGränbybiblioteket\, måndagar 3\, 10 och 24 april. För barn och unga 10–17 år.\nAnmälan via e-post till marianne.skoglund@uppsala.se eller på telefon: 018 727 57 09. \nBild: pixabay.com. \nDela evenemanget
URL:https://arkiv.gratisuppsala.se/event/prova-pa-jobbet-som-bibliotekarie/2017-04-03/
LOCATION:Gränbybiblioteket\, Liljeforstorg 1\, Uppsala\, 754 29\, Sverige
CATEGORIES:Litteratur och Poesi,Prova-på
ATTACH;FMTTYPE=image/png:https://arkiv.gratisuppsala.se/wp-content/uploads/2017/03/boktrave_tecknad.png
ORGANIZER;CN="Bibliotek%20Uppsala":MAILTO:kundtjanst@bibliotekuppsala.se
GEO:59.8718525;17.6582693
X-APPLE-STRUCTURED-LOCATION;VALUE=URI;X-ADDRESS=Gränbybiblioteket Liljeforstorg 1 Uppsala 754 29 Sverige;X-APPLE-RADIUS=500;X-TITLE=Liljeforstorg 1:geo:17.6582693,59.8718525
END:VEVENT
END:VCALENDAR