BEGIN:VCALENDAR
VERSION:2.0
PRODID:-//Gratis Uppsala - ECPv5.2.1//NONSGML v1.0//EN
CALSCALE:GREGORIAN
METHOD:PUBLISH
X-WR-CALNAME:Gratis Uppsala
X-ORIGINAL-URL:https://arkiv.gratisuppsala.se
X-WR-CALDESC:Händelser för Gratis Uppsala
BEGIN:VTIMEZONE
TZID:Europe/Stockholm
BEGIN:DAYLIGHT
TZOFFSETFROM:+0100
TZOFFSETTO:+0200
TZNAME:CEST
DTSTART:20170326T010000
END:DAYLIGHT
BEGIN:STANDARD
TZOFFSETFROM:+0200
TZOFFSETTO:+0100
TZNAME:CET
DTSTART:20171029T010000
END:STANDARD
END:VTIMEZONE
BEGIN:VEVENT
DTSTART;TZID=Europe/Stockholm:20170829T180000
DTEND;TZID=Europe/Stockholm:20170829T191500
DTSTAMP:20260420T113914
CREATED:20170825T103514Z
LAST-MODIFIED:20170825T103514Z
UID:17453-1504029600-1504034100@arkiv.gratisuppsala.se
SUMMARY:Prova på körsång med kören Soul-Children i Valsätrakyrkan\, för dig som är 10-16 år
DESCRIPTION:Prova på körsång med kören Soul-Children i Valsätrakyrkan\nEn ovanlig kör för dig som är 10-16 år\nBilda Uppsala för kyrkan anordnar en prova-på-kväll till kören Soul-Children som sjunger pop\, gospel\, R&B och soul. \nVälkommen tisdag den 29 augusti klockan 17.00-18.15. \nIngen föranmälan. \nPlats: Valsätrakyrkan i Uppsala. \nKören Soul Children träffas under terminen på tisdagar mellan klockan 17.00 – 18.15 i Valsätrakyrkan.\nLedare: Maria Smeds och Magnus Hurtig \nSoul Children är en körrörelse som har utvecklats sedan 2001 för att möta “tweensåldern” och dess specifika behov genom musik som 10-16-åringar känner igen sig i. Soul Children betonar uttrycket och närvaron i sångerna. Sången är förstås central i att uttrycka en sång men kroppen är också en själklar förmedlare av sångernas innehåll genom dans och rörelse. \nVill du läsa mer om Soulchildren kan du gå in på deras hemsida\, här. \nMer information om eventet finner du på Bildas Facebooksida\, här. \n  \nBild från publicdomainpictures.net \nDela evenemanget
URL:https://arkiv.gratisuppsala.se/event/prova-pa-korsang-med-koren-soul-children/
LOCATION:Valsätrakyrkan\, Bernadottevägen 48\, Uppsala\, 75648\, Sverige
CATEGORIES:Prova-på,Sång och Musik
ATTACH;FMTTYPE=image/jpeg:https://arkiv.gratisuppsala.se/wp-content/uploads/2017/08/körsång.jpg
ORGANIZER;CN="Studief%C3%B6rbundet%20Bilda%20Uppsala%20%C3%B6st":MAILTO:ost@bilda.nu
GEO:59.8199123;17.6222422
X-APPLE-STRUCTURED-LOCATION;VALUE=URI;X-ADDRESS=Valsätrakyrkan Bernadottevägen 48 Uppsala 75648 Sverige;X-APPLE-RADIUS=500;X-TITLE=Bernadottevägen 48:geo:17.6222422,59.8199123
END:VEVENT
END:VCALENDAR