BEGIN:VCALENDAR
VERSION:2.0
PRODID:-//Gratis Uppsala - ECPv5.2.1//NONSGML v1.0//EN
CALSCALE:GREGORIAN
METHOD:PUBLISH
X-WR-CALNAME:Gratis Uppsala
X-ORIGINAL-URL:https://arkiv.gratisuppsala.se
X-WR-CALDESC:Händelser för Gratis Uppsala
BEGIN:VTIMEZONE
TZID:Europe/Stockholm
BEGIN:DAYLIGHT
TZOFFSETFROM:+0100
TZOFFSETTO:+0200
TZNAME:CEST
DTSTART:20170326T010000
END:DAYLIGHT
BEGIN:STANDARD
TZOFFSETFROM:+0200
TZOFFSETTO:+0100
TZNAME:CET
DTSTART:20171029T010000
END:STANDARD
END:VTIMEZONE
BEGIN:VEVENT
DTSTART;TZID=Europe/Stockholm:20170829T190000
DTEND;TZID=Europe/Stockholm:20170829T210000
DTSTAMP:20260420T143601
CREATED:20170825T142240Z
LAST-MODIFIED:20170825T142240Z
UID:17458-1504033200-1504040400@arkiv.gratisuppsala.se
SUMMARY:Prova på olika instrument i Österledskyrkan
DESCRIPTION:Prova på olika instrument i Österledskyrkan\n\nStudieförbundet Bilda arrangerar en prova-på-kväll tisdagen den 29 augusti klockan 18.00-20.00. \nPlats: Österledskyrkan i gamla Uppsala \n\nDu som vill prova att spela ett instrument är välkommen.\nDå kan du även prata med lärare och om du önskar\, anmäla dig till musikskolan. \nÖsterledskyrkan har en liten musikskola med cirka 100 elever. Undervisning av barn och vuxna enskilt eller i grupp. Österledskyrkan i Gamla Uppsala driver musikskolan i samarbete med studieförbundet Bilda och Uppsala kommun \nLäs mer om musikskolan här och på Bildas Facebooksida\, här kan du läsa om deras prova-på-kväll. \n  \nBild från maxpixel.freegreatpicture.com \nDela evenemanget
URL:https://arkiv.gratisuppsala.se/event/prova-pa-olika-instrument/
LOCATION:Österledskyrkan\, Regins väg 1\, Uppsala\, 754 40\, Sverige
CATEGORIES:Prova-på,Sång och Musik
ATTACH;FMTTYPE=image/jpeg:https://arkiv.gratisuppsala.se/wp-content/uploads/2017/08/Instrument-e1523871286467.jpg
ORGANIZER;CN="Studief%C3%B6rbundet%20Bilda%20Uppsala%20%C3%B6st":MAILTO:ost@bilda.nu
GEO:59.8941878;17.6385469
X-APPLE-STRUCTURED-LOCATION;VALUE=URI;X-ADDRESS=Österledskyrkan Regins väg 1 Uppsala 754 40 Sverige;X-APPLE-RADIUS=500;X-TITLE=Regins väg 1:geo:17.6385469,59.8941878
END:VEVENT
END:VCALENDAR