BEGIN:VCALENDAR
VERSION:2.0
PRODID:-//Gratis Uppsala - ECPv5.2.1//NONSGML v1.0//EN
CALSCALE:GREGORIAN
METHOD:PUBLISH
X-WR-CALNAME:Gratis Uppsala
X-ORIGINAL-URL:https://arkiv.gratisuppsala.se
X-WR-CALDESC:Händelser för Gratis Uppsala
BEGIN:VTIMEZONE
TZID:Europe/Stockholm
BEGIN:DAYLIGHT
TZOFFSETFROM:+0100
TZOFFSETTO:+0200
TZNAME:CEST
DTSTART:20170326T010000
END:DAYLIGHT
BEGIN:STANDARD
TZOFFSETFROM:+0200
TZOFFSETTO:+0100
TZNAME:CET
DTSTART:20171029T010000
END:STANDARD
END:VTIMEZONE
BEGIN:VEVENT
DTSTART;TZID=Europe/Stockholm:20170829T190000
DTEND;TZID=Europe/Stockholm:20170829T200000
DTSTAMP:20260420T130636
CREATED:20170727T113502Z
LAST-MODIFIED:20170731T073541Z
UID:16577-1504033200-1504036800@arkiv.gratisuppsala.se
SUMMARY:Prova på-orientering i Enköping med OK Enen
DESCRIPTION:Prova att orientera i Enköping\nMed föreningen OK Enen\nProva på hur det känns att orientera med Orienteringsklubben Enen. Du får prova alla moment som ingår i en orienteringstävling – men du gör det i ”bergsäker” terräng där du inte riskerar att komma vilse. \n\nDu får bekanta dig med det elektroniska stämplingssystemet\nDu får förflytta dig utifrån en riktig karta med riktiga karttecken och kontrollbeskrivningar\nDu jämför kartan med verkligheten under förflyttningen – och kan då förutse var kontrollerna skall finnas\nDu stämplar vid start\, vid kontrollerna\, vid ”målgång” och stämplar ut dig – och får en resultatremsa\n\n  \nDatum: 29/8\, 26/9\, 24/10\, 28/11 \nTider: klockan 18.00-19.00 \nPlats: Gånstagården (parkeringen) i Enköping \nKostnad: Ingen \nAnmälan: Ingen anmälan behövs \nPersonlig utrustning: Oömma kläder\, efter väder \nOrienteringsutrustning: Lånas på plats \nLäs mer på OK Enens hemsida \n  \nBild från wikimedia.org \nDela evenemanget
URL:https://arkiv.gratisuppsala.se/event/prova-pa-orientering-med-ok-enen/2017-08-29/
LOCATION:Gånstagården\, parkeringen\, Gånstagården\, Enköping\, 749 48\, Sverige
CATEGORIES:Prova-på,Sport & Motion
ATTACH;FMTTYPE=image/jpeg:https://arkiv.gratisuppsala.se/wp-content/uploads/2017/07/Orienteering_child.jpg
ORGANIZER;CN="OK%20Enen":MAILTO:info@okenen.se
GEO:59.6241499;17.0950617
X-APPLE-STRUCTURED-LOCATION;VALUE=URI;X-ADDRESS=Gånstagården parkeringen Gånstagården Enköping 749 48 Sverige;X-APPLE-RADIUS=500;X-TITLE=Gånstagården:geo:17.0950617,59.6241499
END:VEVENT
END:VCALENDAR