BEGIN:VCALENDAR
VERSION:2.0
PRODID:-//Gratis Uppsala - ECPv5.2.1//NONSGML v1.0//EN
CALSCALE:GREGORIAN
METHOD:PUBLISH
X-WR-CALNAME:Gratis Uppsala
X-ORIGINAL-URL:https://arkiv.gratisuppsala.se
X-WR-CALDESC:Händelser för Gratis Uppsala
BEGIN:VTIMEZONE
TZID:Europe/Stockholm
BEGIN:DAYLIGHT
TZOFFSETFROM:+0100
TZOFFSETTO:+0200
TZNAME:CEST
DTSTART:20160327T010000
END:DAYLIGHT
BEGIN:STANDARD
TZOFFSETFROM:+0200
TZOFFSETTO:+0100
TZNAME:CET
DTSTART:20161030T010000
END:STANDARD
END:VTIMEZONE
BEGIN:VEVENT
DTSTART;TZID=Europe/Stockholm:20160627T183000
DTEND;TZID=Europe/Stockholm:20160627T200000
DTSTAMP:20260420T082037
CREATED:20160623T112836Z
LAST-MODIFIED:20160623T114014Z
UID:7627-1467052200-1467057600@arkiv.gratisuppsala.se
SUMMARY:Qi gong i Botaniska trädgården på måndagar
DESCRIPTION:Botaniska trädgården\, Uppsala\nGräsmattan nära hörnet Norbyvägen/Villavägen. \nMåndagar 13 juni till och med 25 juli kl.17.30 \nDet är samling vid det röda krysset. \nDela evenemanget
URL:https://arkiv.gratisuppsala.se/event/qi-gong-botaniska-tradgarden-pa-mandagar/2016-06-27/
LOCATION:Botaniska trädgården\, Villavägen 8\, Uppsala\, 752 36\, Sverige
CATEGORIES:Kropp och Själ,Sport & Motion
ATTACH;FMTTYPE=image/jpeg:https://arkiv.gratisuppsala.se/wp-content/uploads/2016/06/BotanQigong.jpg
GEO:59.8503326;17.6269648
X-APPLE-STRUCTURED-LOCATION;VALUE=URI;X-ADDRESS=Botaniska trädgården Villavägen 8 Uppsala 752 36 Sverige;X-APPLE-RADIUS=500;X-TITLE=Villavägen 8:geo:17.6269648,59.8503326
END:VEVENT
END:VCALENDAR