BEGIN:VCALENDAR
VERSION:2.0
PRODID:-//Gratis Uppsala - ECPv5.2.1//NONSGML v1.0//EN
CALSCALE:GREGORIAN
METHOD:PUBLISH
X-WR-CALNAME:Gratis Uppsala
X-ORIGINAL-URL:https://arkiv.gratisuppsala.se
X-WR-CALDESC:Händelser för Gratis Uppsala
BEGIN:VTIMEZONE
TZID:Europe/Stockholm
BEGIN:DAYLIGHT
TZOFFSETFROM:+0100
TZOFFSETTO:+0200
TZNAME:CEST
DTSTART:20180325T010000
END:DAYLIGHT
BEGIN:STANDARD
TZOFFSETFROM:+0200
TZOFFSETTO:+0100
TZNAME:CET
DTSTART:20181028T010000
END:STANDARD
END:VTIMEZONE
BEGIN:VEVENT
DTSTART;TZID=Europe/Stockholm:20180819T120000
DTEND;TZID=Europe/Stockholm:20180819T180000
DTSTAMP:20260420T220714
CREATED:20180717T084131Z
LAST-MODIFIED:20180812T172110Z
UID:24209-1534680000-1534701600@arkiv.gratisuppsala.se
SUMMARY:Rågskörd med marknad
DESCRIPTION:Rågskörd med marknad\nRågskörd med marknad hos familjen Linné.\nVar med vid rågskörd och när biodlaren slungar honung. Fynda skinn\, hantverk\, ost\, bröd och honung från lokala tillverkare på gemytliga marknad. Följ med på visningar av bostadshus\, växterna från mormorstid\, blomflugor och vilda bin\, kålgård och mycket mer. Lär dig mer om garnfärgning\, biodling och gå på tipspromenad. Låna 1700-talsdräkter till barnen. Aktiviteter för alla åldrar. Fri entré för 1700-talsklädda.\n\nGården Hammarby är en av Sveriges mest stilriktigt bevarade 1700-talsgårdar. Den köptes av Carl von Linné 1758 som en tillflykt från Uppsalas osunda miljö. Här speglas både Carl von Linnés privatliv och hans vetenskapliga gärning. \nI den lummiga parken frodas många av de växter Linné själv odlade. Från höjden ovanför gården kan man njuta av utsikten och drömma sig tillbaka till 1700-talets landskap. \nUr programmet: \n\n11.30 Blommorna från mormors tid. Visning med trädgårdsmästare Tina Ahlström.\n12.30 Insektsvandring med Christina Winter. Lär dig mer om våra viktiga pollinatörer och var de trivs.\n13.30 Föredrag om historiskt bröd med Karin Gerhardt från Ängslyckans Café. Därefter provsmakning.\n14.30 Kulturstigsvandring\n15.00 Biodlaren slungar honung från Linnés Hammarbys bikupor.\n\nDatum: Söndag 19 augusti\nTid: kl. 11–17\nVar: Linnés Hammarby\nPris: 80 kr / Fri entré för 1700-talsklädda.\nBarn 0-17 år gratis. \n\nHitta till Linnés Hammarby \nFrån E4 förbi Uppsala tag avfart 187 och kör väg 282 mot Edsbro. Tag sedan höger mot Danmark och Linnés Hammarby. Linnés Hammarby har GPS-koordinaterna WGS84 59° 49′ 3″ N\, 17° 46′ 35″ E och UTM-koordinaterna 59.8175°\, 17.776389°). \n\nFör mer information om Linnés Hammaby\, klicka här. (Länken öppnas i nytt fönster/flik.) \nBild från commons.wikimedia.org \nDela evenemanget
URL:https://arkiv.gratisuppsala.se/event/ragskord-med-marknad/
LOCATION:Linnés Hammarby\, Danmarks-hammarby\, Uppsala\, 755 98\, Sverige
CATEGORIES:Familj,Kunskap och Lärande,Marknad & Loppis,Prova-på,Samhälle,Trädgård,Vuxen
ATTACH;FMTTYPE=image/jpeg:https://arkiv.gratisuppsala.se/wp-content/uploads/2018/04/CarlvonLinne_Hammarby-e1531820445130.jpg
ORGANIZER;CN="Uppsala%20linneanska%20tr%C3%A4dg%C3%A5rdar":MAILTO:bokning@botan.uu.se
GEO:59.817438;17.776032
X-APPLE-STRUCTURED-LOCATION;VALUE=URI;X-ADDRESS=Linnés Hammarby Danmarks-hammarby Uppsala 755 98 Sverige;X-APPLE-RADIUS=500;X-TITLE=Danmarks-hammarby:geo:17.776032,59.817438
END:VEVENT
END:VCALENDAR