BEGIN:VCALENDAR
VERSION:2.0
PRODID:-//Gratis Uppsala - ECPv5.2.1//NONSGML v1.0//EN
CALSCALE:GREGORIAN
METHOD:PUBLISH
X-WR-CALNAME:Gratis Uppsala
X-ORIGINAL-URL:https://arkiv.gratisuppsala.se
X-WR-CALDESC:Händelser för Gratis Uppsala
BEGIN:VTIMEZONE
TZID:Europe/Stockholm
BEGIN:DAYLIGHT
TZOFFSETFROM:+0100
TZOFFSETTO:+0200
TZNAME:CEST
DTSTART:20160327T010000
END:DAYLIGHT
BEGIN:STANDARD
TZOFFSETFROM:+0200
TZOFFSETTO:+0100
TZNAME:CET
DTSTART:20161030T010000
END:STANDARD
END:VTIMEZONE
BEGIN:VEVENT
DTSTART;TZID=Europe/Stockholm:20160131T130000
DTEND;TZID=Europe/Stockholm:20160131T150000
DTSTAMP:20260419T215931
CREATED:20160126T134517Z
LAST-MODIFIED:20160126T134517Z
UID:5945-1454245200-1454252400@arkiv.gratisuppsala.se
SUMMARY:Räknestuga
DESCRIPTION:Du får individuell hjälp av Mattecentrums\nvolontärer som till vardags jobbar som ingenjörer\, matematiker och naturvetare och som brinner för att dela med sig av sina kunskaper.\nFör alla åldrar.\nGratis. Ingen föranmälan. Lokal: Skattkammaren. \nVarje söndag under vårterminen förutom 27/3 (Påskdagen). \nwww.mattecentrum.se/uppsala \nPris: Gratis!  \nDrop in.  \nLängd: 2 timmar \nMålgrupp: Skolelever- barn och vuxna \nDela evenemanget
URL:https://arkiv.gratisuppsala.se/event/raknestuga-2/2016-01-31/
LOCATION:Stadsbiblioteket\, Svartbäcksgatan 17
ATTACH;FMTTYPE=image/jpeg:https://arkiv.gratisuppsala.se/wp-content/uploads/2016/01/matte.jpg
ORGANIZER;CN="Bibliotek%20Uppsala":MAILTO:kundtjanst@bibliotekuppsala.se
GEO:59.8606206;17.6353278
X-APPLE-STRUCTURED-LOCATION;VALUE=URI;X-ADDRESS=Stadsbiblioteket Svartbäcksgatan 17;X-APPLE-RADIUS=500;X-TITLE=Svartbäcksgatan 17:geo:17.6353278,59.8606206
END:VEVENT
END:VCALENDAR