BEGIN:VCALENDAR
VERSION:2.0
PRODID:-//Gratis Uppsala - ECPv5.2.1//NONSGML v1.0//EN
CALSCALE:GREGORIAN
METHOD:PUBLISH
X-WR-CALNAME:Gratis Uppsala
X-ORIGINAL-URL:https://arkiv.gratisuppsala.se
X-WR-CALDESC:Händelser för Gratis Uppsala
BEGIN:VTIMEZONE
TZID:Europe/Stockholm
BEGIN:DAYLIGHT
TZOFFSETFROM:+0100
TZOFFSETTO:+0200
TZNAME:CEST
DTSTART:20160327T010000
END:DAYLIGHT
BEGIN:STANDARD
TZOFFSETFROM:+0200
TZOFFSETTO:+0100
TZNAME:CET
DTSTART:20161030T010000
END:STANDARD
END:VTIMEZONE
BEGIN:VEVENT
DTSTART;TZID=Europe/Stockholm:20160516T110000
DTEND;TZID=Europe/Stockholm:20160531T160000
DTSTAMP:20260421T050607
CREATED:20160516T082546Z
LAST-MODIFIED:20160516T082546Z
UID:7005-1463396400-1464710400@arkiv.gratisuppsala.se
SUMMARY:Rakubrända skulpturer och målningar på SKB\, Östhammar
DESCRIPTION:Rakubrända skulpturer och målningar på SKB\, Östhammar\nCamilla Holewa visar rakubrända skulpturer och Maria Eklöw Bosaeus färgstarka\, glada målningar. Vernissage 3 maj kl 17-19. Öppet vardagar 10-15. Camilla och Maria är medlemmar i Östhammars Konstnärsförening \n\n Dela evenemanget
URL:https://arkiv.gratisuppsala.se/event/rakubranda-skulpturer-och-malningar-pa-skb-osthammar/
CATEGORIES:Konst, Fotografi och Design
ORGANIZER;CN="%C3%96sthammars%20Konstn%C3%A4rsf%C3%B6rening":MAILTO:gerd.vading@gmail.com
END:VEVENT
END:VCALENDAR