BEGIN:VCALENDAR
VERSION:2.0
PRODID:-//Gratis Uppsala - ECPv5.2.1//NONSGML v1.0//EN
CALSCALE:GREGORIAN
METHOD:PUBLISH
X-WR-CALNAME:Gratis Uppsala
X-ORIGINAL-URL:https://arkiv.gratisuppsala.se
X-WR-CALDESC:Händelser för Gratis Uppsala
BEGIN:VTIMEZONE
TZID:Europe/Stockholm
BEGIN:DAYLIGHT
TZOFFSETFROM:+0100
TZOFFSETTO:+0200
TZNAME:CEST
DTSTART:20170326T010000
END:DAYLIGHT
BEGIN:STANDARD
TZOFFSETFROM:+0200
TZOFFSETTO:+0100
TZNAME:CET
DTSTART:20171029T010000
END:STANDARD
END:VTIMEZONE
BEGIN:VEVENT
DTSTART;TZID=Europe/Stockholm:20170307T090000
DTEND;TZID=Europe/Stockholm:20170307T170000
DTSTAMP:20260420T124949
CREATED:20170125T121603Z
LAST-MODIFIED:20170313T095443Z
UID:10995-1488877200-1488906000@arkiv.gratisuppsala.se
SUMMARY:Relation - Konstutställning med Susanna von Krusenstierna
DESCRIPTION:Relation; en konstutställning av Susanna von Krusenstierna\n\n\nSusanna von Krusenstierna kom i kontakt med Vedicart år 2001 under handledning av konstnären Curt Källman. Detta blev en introduktion till det konstnärskap hon haft inom sig sen barnsben. Med fokus på processen\, att skapa utifrån sig själv i full frihet och utan prestationskrav fann hon glädjen i måleriet och ett sätt att uttrycka sig. Susanna vet sällan i förväg vad hon ska måla. Hon börjar och ser vad som händer. En dialog med duken påbörjas. En relation. Hon målar huvudsakligen i akryl och använder ofta blandteknik där olika material får bidra till ytans struktur. Susanna von Krusenstierna är bosatt i Sigtuna och har under sitt yrkesliv arbetat som sjukhuskemist på Karolinska Universitetssjukhuset i Stockholm. Hon skapar både hemma i Sigtuna och vid sitt sommarhus på Öland. \nInformation: \nDatum: 7 mars – 18 april\nPlats: Sigtunastiftelsen \n\nFör mer information om utställningen\, klicka här.\n\nBild från pixabay.com \nDela evenemanget
URL:https://arkiv.gratisuppsala.se/event/relation-konstutstallning-pa-sigtunastiftelsen-med-susanna-von-krusenstierna/2017-03-07/
LOCATION:Sigtunastiftelsen\, Manfred Björkqvist allé 4\, Sigtuna\, 19322
CATEGORIES:Konst, Fotografi och Design,Utställning
ATTACH;FMTTYPE=image/jpeg:https://arkiv.gratisuppsala.se/wp-content/uploads/2017/01/konst-akryl-e1499175621892.jpg
END:VEVENT
END:VCALENDAR