BEGIN:VCALENDAR
VERSION:2.0
PRODID:-//Gratis Uppsala - ECPv5.2.1//NONSGML v1.0//EN
CALSCALE:GREGORIAN
METHOD:PUBLISH
X-WR-CALNAME:Gratis Uppsala
X-ORIGINAL-URL:https://arkiv.gratisuppsala.se
X-WR-CALDESC:Händelser för Gratis Uppsala
BEGIN:VTIMEZONE
TZID:Europe/Stockholm
BEGIN:DAYLIGHT
TZOFFSETFROM:+0100
TZOFFSETTO:+0200
TZNAME:CEST
DTSTART:20160327T010000
END:DAYLIGHT
BEGIN:STANDARD
TZOFFSETFROM:+0200
TZOFFSETTO:+0100
TZNAME:CET
DTSTART:20161030T010000
END:STANDARD
END:VTIMEZONE
BEGIN:VEVENT
DTSTART;TZID=Europe/Stockholm:20160108T143000
DTEND;TZID=Europe/Stockholm:20160108T153000
DTSTAMP:20260420T193533
CREATED:20151210T093844Z
LAST-MODIFIED:20151210T093844Z
UID:5191-1452263400-1452267000@arkiv.gratisuppsala.se
SUMMARY:Möt KG Hammar - Religion\, konst och den apofatiska motkraften
DESCRIPTION:Religion\, konst och den apofatiska motkraften\n8 januari\, 2016\, 14:30 – 15:30\nGratis\nMöt KG Hammar\, ärkebiskop emeritus\, författare och teolog\, i ett samtal om religion som konstart med utrymme för den apofatiska motkraften. Föreläsningen är öppen för allmänheten och ges i samverkan med Sveriges Kyrkosångarförbund. \n\n\n\n Dela evenemanget
URL:https://arkiv.gratisuppsala.se/event/religion-konst-och-den-apofatiska-motkraften-kg-hammar/
LOCATION:Sigtunastiftelsen\, Manfred Björkquists allé 4\, Sigtuna\, Sverige
CATEGORIES:Föreläsning och Kurs
ORGANIZER;CN="Sigtunastiftelsen":MAILTO:info@sigtunastiftelsen.se
GEO:59.6158714;17.7101321
X-APPLE-STRUCTURED-LOCATION;VALUE=URI;X-ADDRESS=Sigtunastiftelsen Manfred Björkquists allé 4 Sigtuna Sverige;X-APPLE-RADIUS=500;X-TITLE=Manfred Björkquists allé 4:geo:17.7101321,59.6158714
END:VEVENT
END:VCALENDAR