BEGIN:VCALENDAR
VERSION:2.0
PRODID:-//Gratis Uppsala - ECPv5.2.1//NONSGML v1.0//EN
CALSCALE:GREGORIAN
METHOD:PUBLISH
X-WR-CALNAME:Gratis Uppsala
X-ORIGINAL-URL:https://arkiv.gratisuppsala.se
X-WR-CALDESC:Händelser för Gratis Uppsala
BEGIN:VTIMEZONE
TZID:Europe/Stockholm
BEGIN:DAYLIGHT
TZOFFSETFROM:+0100
TZOFFSETTO:+0200
TZNAME:CEST
DTSTART:20170326T010000
END:DAYLIGHT
BEGIN:STANDARD
TZOFFSETFROM:+0200
TZOFFSETTO:+0100
TZNAME:CET
DTSTART:20171029T010000
END:STANDARD
END:VTIMEZONE
BEGIN:VEVENT
DTSTART;TZID=Europe/Stockholm:20170604T150000
DTEND;TZID=Europe/Stockholm:20170604T160000
DTSTAMP:20260421T134230
CREATED:20170518T081708Z
LAST-MODIFIED:20170518T081708Z
UID:14072-1496588400-1496592000@arkiv.gratisuppsala.se
SUMMARY:River Mountains/Forsbergs orkester
DESCRIPTION:Musik från Norrbotten\nGårdsoasen i Linnés Sävja med dess sköna utomhusscen och gårdscafé presenterar orkestern River Mountains samt hemliga gäster. \nOrkestern spelar låtar av spelmän från Norrbotten samt egna kompositioner med rötter i det traditionella materialet och man kan höra vemod från långa vinternätter men också glädje över vårflod och den vackra vyn över Kalix älvdal. \n  \n\n\n\n\n\n\n\n Bilden hämtad från pixabay.com\n\n\n\n\n\n\n\n\n Dela evenemanget
URL:https://arkiv.gratisuppsala.se/event/river-mountains-forsbergs-orkester/
LOCATION:Gårdsoasen\, Linnés Sävja\, Carl von Linnés väg 3\, Uppsala
CATEGORIES:Konsert
ATTACH;FMTTYPE=image/jpeg:https://arkiv.gratisuppsala.se/wp-content/uploads/2017/05/music-104601_640.jpg
GEO:59.8195325;17.7012715
X-APPLE-STRUCTURED-LOCATION;VALUE=URI;X-ADDRESS=Gårdsoasen Linnés Sävja Carl von Linnés väg 3 Uppsala;X-APPLE-RADIUS=500;X-TITLE=Carl von Linnés väg 3:geo:17.7012715,59.8195325
END:VEVENT
END:VCALENDAR