BEGIN:VCALENDAR
VERSION:2.0
PRODID:-//Gratis Uppsala - ECPv5.2.1//NONSGML v1.0//EN
CALSCALE:GREGORIAN
METHOD:PUBLISH
X-WR-CALNAME:Gratis Uppsala
X-ORIGINAL-URL:https://arkiv.gratisuppsala.se
X-WR-CALDESC:Händelser för Gratis Uppsala
BEGIN:VTIMEZONE
TZID:Europe/Stockholm
BEGIN:DAYLIGHT
TZOFFSETFROM:+0100
TZOFFSETTO:+0200
TZNAME:CEST
DTSTART:20200329T010000
END:DAYLIGHT
BEGIN:STANDARD
TZOFFSETFROM:+0200
TZOFFSETTO:+0100
TZNAME:CET
DTSTART:20201025T010000
END:STANDARD
END:VTIMEZONE
BEGIN:VEVENT
DTSTART;TZID=Europe/Stockholm:20200829T143000
DTEND;TZID=Europe/Stockholm:20200829T160000
DTSTAMP:20260421T152431
CREATED:20200813T123356Z
LAST-MODIFIED:20200813T123356Z
UID:47187-1598711400-1598716800@arkiv.gratisuppsala.se
SUMMARY:Robotworkshop på Stadsbiblioteket
DESCRIPTION:Robotworkshop på Stadsbiblioteket\nRobotar och klimatsmart energi\n  \nKom på robotworkshop på Stadsbiblioteket\, gör robotar av återvunnet material och undersök hur klimatsmart energi fungerar! Där bygger man fantasieggande robotar som man styr med energi från bland annat solceller. Hålls Jack och Elliot Wallentin som skrivit boken Fantastiska djur i Amazonas regnskog. \n  \nDatum: Lördagen den 29 augusti 2020\nPlats: Uppsala Stadsbibliotek\nÅlder: 5-11 år\nPris: Gratis\nBiljett/Anmälan: Nej \n  \n\nOm Bibliotek Uppsala\nBibliotek Uppsala är en plats för möten\, kunskap och upplevelser. Tanken är att ge alla Uppsalabor tillgång till berättelser och information som kan ge nya insikter och nya perspektiv. Genom ett författarsamtal\, en bok\, en utställning\, en sagostund eller någon annan av de hundratals aktiviteter och arrangemang som erbjuds varje år. \n  \n\nBesök gärna länkarna nedan (externa länkar öppnas i ett nytt fönster/flik).\nRobotworkshop på Stadsbiblioteket – Bibliotekuppsala.se | Författarbesök – Bibliotekuppsala.se | Kommande event på Sommarlovet | \n  \nFoto: Unsplash \nDela evenemanget
URL:https://arkiv.gratisuppsala.se/event/robotworkshop-pa-stadsbiblioteket/
LOCATION:Uppsala Stadsbiblioteket\, Svartbäcksgatan 17\, Uppsala\, Uppsala\, 753 75 Uppsala\, Sverige
CATEGORIES:Ålderskategori,Anmälan / Kostnad,Barn,Bibliotek,Centrum,Eventkategori,Författarbesök,Geografisk kategori,Gratis,Ingen föranmälan,Kunskap och Lärande,Litteratur och Poesi,Pyssel,Skapande och Kreativitet,Skollov,Sommarlov,Uppsala,Uppsala Kommun,Workshop
ATTACH;FMTTYPE=image/jpeg:https://arkiv.gratisuppsala.se/wp-content/uploads/2020/08/mina-fc-3QKsG0fDrC8-unsplash-e1597062639655.jpg
GEO:59.8606206;17.6353278
X-APPLE-STRUCTURED-LOCATION;VALUE=URI;X-ADDRESS=Uppsala Stadsbiblioteket Svartbäcksgatan 17 Uppsala Uppsala 753 75 Uppsala Sverige;X-APPLE-RADIUS=500;X-TITLE=Svartbäcksgatan 17:geo:17.6353278,59.8606206
END:VEVENT
END:VCALENDAR