BEGIN:VCALENDAR
VERSION:2.0
PRODID:-//Gratis Uppsala - ECPv5.2.1//NONSGML v1.0//EN
CALSCALE:GREGORIAN
METHOD:PUBLISH
X-WR-CALNAME:Gratis Uppsala
X-ORIGINAL-URL:https://arkiv.gratisuppsala.se
X-WR-CALDESC:Händelser för Gratis Uppsala
BEGIN:VTIMEZONE
TZID:Europe/Stockholm
BEGIN:DAYLIGHT
TZOFFSETFROM:+0100
TZOFFSETTO:+0200
TZNAME:CEST
DTSTART:20190331T010000
END:DAYLIGHT
BEGIN:STANDARD
TZOFFSETFROM:+0200
TZOFFSETTO:+0100
TZNAME:CET
DTSTART:20191027T010000
END:STANDARD
END:VTIMEZONE
BEGIN:VEVENT
DTSTART;TZID=Europe/Stockholm:20191124T110000
DTEND;TZID=Europe/Stockholm:20191124T160000
DTSTAMP:20260421T182552
CREATED:20191119T113448Z
LAST-MODIFIED:20191119T113448Z
UID:39651-1574593200-1574611200@arkiv.gratisuppsala.se
SUMMARY:Röda Korsets traditionsenliga julmarknad 2019
DESCRIPTION:Röda Korsets traditionsenliga julmarknad 2019\nDet är dags för Röda Korsets traditionsenliga julmarknad\, i second hand-butiken. Kom och upplev årets roligaste dag med de på Röda Korset! Intäkterna går till Röda Korsets katastrofhjälp. \nDatum: Söndagen den 24 November 2019\nTid: 11:00-16:00\nPlats: Röda Korset\, Danmarksgatan 20 B\, 753 23 Uppsala\nÅlder: Ej angiven\nPris: Gratis \n\nOm Röda Korset\nRöda Korset är en organisation som arbetar världsomspännande med humanitärt hjälparbete. Deras vision är att ingen skall lämnas ensam i en kris eller katastrof. Uppsala rödakorskrets uppdrag är att ge hopp och rädda liv i Uppsala och i världen. Några av deras fokusområden är främst migraton och integration\, samt stöd till äldre och barn. \n\nBesök gärna länkarna nedan (externa länkar öppnas i ett nytt fönster/flik).\nJulmarknad | Kommande event inom julmarknad \nBild: Pixabay \nDela evenemanget
URL:https://arkiv.gratisuppsala.se/event/roda-korsets-traditionsenliga-julmarknad-2019/
LOCATION:Röda Korset\, Trädgårdsgatan 16C\, Uppsala\, 753 09\, Sverige
CATEGORIES:Ålderskategori,Anmälan / Kostnad,Barn,Centrum,Familj,Geografisk kategori,Gratis,Högtid,Jul,Julmarknad,Marknad & Loppis,Ungdom,Uppsala,Vuxen
ATTACH;FMTTYPE=image/png:https://arkiv.gratisuppsala.se/wp-content/uploads/2019/11/christmas-1869533_1280-e1573738341137.png
END:VEVENT
END:VCALENDAR