BEGIN:VCALENDAR
VERSION:2.0
PRODID:-//Gratis Uppsala - ECPv5.2.1//NONSGML v1.0//EN
CALSCALE:GREGORIAN
METHOD:PUBLISH
X-WR-CALNAME:Gratis Uppsala
X-ORIGINAL-URL:https://arkiv.gratisuppsala.se
X-WR-CALDESC:Händelser för Gratis Uppsala
BEGIN:VTIMEZONE
TZID:Europe/Stockholm
BEGIN:DAYLIGHT
TZOFFSETFROM:+0100
TZOFFSETTO:+0200
TZNAME:CEST
DTSTART:20160327T010000
END:DAYLIGHT
BEGIN:STANDARD
TZOFFSETFROM:+0200
TZOFFSETTO:+0100
TZNAME:CET
DTSTART:20161030T010000
END:STANDARD
END:VTIMEZONE
BEGIN:VEVENT
DTSTART;TZID=Europe/Stockholm:20160702T140000
DTEND;TZID=Europe/Stockholm:20160702T140000
DTSTAMP:20260420T064222
CREATED:20160616T065247Z
LAST-MODIFIED:20160616T084848Z
UID:7493-1467468000-1467468000@arkiv.gratisuppsala.se
SUMMARY:Rosens dag
DESCRIPTION:Följ med på visning bland nya och gamla rosor. Start vid Tropiska växthuset. Botaniska trädgården. \nDela evenemanget
URL:https://arkiv.gratisuppsala.se/event/rosens-dag/
LOCATION:Botaniska trädgården\, Villavägen 8\, Uppsala\, 752 36\, Sverige
CATEGORIES:Trädgård
ATTACH;FMTTYPE=image/jpeg:https://arkiv.gratisuppsala.se/wp-content/uploads/2016/06/GulRos-1.jpg
GEO:59.8503326;17.6269648
X-APPLE-STRUCTURED-LOCATION;VALUE=URI;X-ADDRESS=Botaniska trädgården Villavägen 8 Uppsala 752 36 Sverige;X-APPLE-RADIUS=500;X-TITLE=Villavägen 8:geo:17.6269648,59.8503326
END:VEVENT
END:VCALENDAR