BEGIN:VCALENDAR
VERSION:2.0
PRODID:-//Gratis Uppsala - ECPv5.2.1//NONSGML v1.0//EN
CALSCALE:GREGORIAN
METHOD:PUBLISH
X-WR-CALNAME:Gratis Uppsala
X-ORIGINAL-URL:https://arkiv.gratisuppsala.se
X-WR-CALDESC:Händelser för Gratis Uppsala
BEGIN:VTIMEZONE
TZID:Europe/Stockholm
BEGIN:DAYLIGHT
TZOFFSETFROM:+0100
TZOFFSETTO:+0200
TZNAME:CEST
DTSTART:20150329T010000
END:DAYLIGHT
BEGIN:STANDARD
TZOFFSETFROM:+0200
TZOFFSETTO:+0100
TZNAME:CET
DTSTART:20151025T010000
END:STANDARD
END:VTIMEZONE
BEGIN:VEVENT
DTSTART;TZID=Europe/Stockholm:20151020T193000
DTEND;TZID=Europe/Stockholm:20151020T220000
DTSTAMP:20260419T201421
CREATED:20151006T112737Z
LAST-MODIFIED:20151006T112737Z
UID:4072-1445369400-1445378400@arkiv.gratisuppsala.se
SUMMARY:Rovdjurssituationen i Uppland - information särskilt om lodjur
DESCRIPTION:En vilthandläggare på länsstyrelsen informerar \nPlats: Vaksalaskolans matsal i Uppsala \nDela evenemanget
URL:https://arkiv.gratisuppsala.se/event/rovdjurssituationen-i-uppland-information-sarskilt-om-lodjur/
LOCATION:Vaksalaskolan\, Väderkvarnsg. 25\, Uppsala\, 753 29\, Sverige
CATEGORIES:Föreläsning och Kurs
ATTACH;FMTTYPE=image/jpeg:https://arkiv.gratisuppsala.se/wp-content/uploads/2015/10/Lo.jpg
ORGANIZER;CN="Uppsala%20Naturskyddsf%C3%B6rening":MAILTO:s.d.johansson@gmail.com
GEO:59.8612322;17.6480218
X-APPLE-STRUCTURED-LOCATION;VALUE=URI;X-ADDRESS=Vaksalaskolan Väderkvarnsg. 25 Uppsala 753 29 Sverige;X-APPLE-RADIUS=500;X-TITLE=Väderkvarnsg. 25:geo:17.6480218,59.8612322
END:VEVENT
END:VCALENDAR