BEGIN:VCALENDAR
VERSION:2.0
PRODID:-//Gratis Uppsala - ECPv5.2.1//NONSGML v1.0//EN
CALSCALE:GREGORIAN
METHOD:PUBLISH
X-WR-CALNAME:Gratis Uppsala
X-ORIGINAL-URL:https://arkiv.gratisuppsala.se
X-WR-CALDESC:Händelser för Gratis Uppsala
BEGIN:VTIMEZONE
TZID:Europe/Stockholm
BEGIN:DAYLIGHT
TZOFFSETFROM:+0100
TZOFFSETTO:+0200
TZNAME:CEST
DTSTART:20160327T010000
END:DAYLIGHT
BEGIN:STANDARD
TZOFFSETFROM:+0200
TZOFFSETTO:+0100
TZNAME:CET
DTSTART:20161030T010000
END:STANDARD
END:VTIMEZONE
BEGIN:VEVENT
DTSTART;TZID=Europe/Stockholm:20160214T123000
DTEND;TZID=Europe/Stockholm:20160214T160000
DTSTAMP:20260422T212006
CREATED:20160211T094624Z
LAST-MODIFIED:20160211T094624Z
UID:6143-1455453000-1455465600@arkiv.gratisuppsala.se
SUMMARY:Safari och bildjakt i Domkyrkan
DESCRIPTION:Gå på safari och bildjakt i Domkyrkan! \nDet finns tre olika aktiviteter för barn som vill upptäcka kyrkan: en safari som visar barnen några av alla djuren\, en karta som berättar om figurer och filurer i domkyrkan\, och en med bildledtrådar som hjälper barnen att hitta runt i kyrkan. \nBarnen behöver ha kartor med instruktioner som man antingen kan ladda ned här och skriva ut i förväg för att ta med sig\, eller få i Katedralbutiken i kyrkan.\nSafari och bildjakterna är gratis. \nAlla Hjärtans Dag är kyrkan öppen kl 12.30-16. \nBild: wikimedia.com. \nDela evenemanget
URL:https://arkiv.gratisuppsala.se/event/safari-och-bildjakt-i-domkyrkan/
LOCATION:Uppsala domkyrka\, Domkyrkoplan 5\, Uppsala\, 75310\, Sverige
ATTACH;FMTTYPE=image/jpeg:https://arkiv.gratisuppsala.se/wp-content/uploads/2016/02/domkyrkan_wikimedia.jpg
GEO:59.8584471;17.6332992
X-APPLE-STRUCTURED-LOCATION;VALUE=URI;X-ADDRESS=Uppsala domkyrka Domkyrkoplan 5 Uppsala 75310 Sverige;X-APPLE-RADIUS=500;X-TITLE=Domkyrkoplan 5:geo:17.6332992,59.8584471
END:VEVENT
END:VCALENDAR