BEGIN:VCALENDAR
VERSION:2.0
PRODID:-//Gratis Uppsala - ECPv5.2.1//NONSGML v1.0//EN
CALSCALE:GREGORIAN
METHOD:PUBLISH
X-WR-CALNAME:Gratis Uppsala
X-ORIGINAL-URL:https://arkiv.gratisuppsala.se
X-WR-CALDESC:Händelser för Gratis Uppsala
BEGIN:VTIMEZONE
TZID:Europe/Stockholm
BEGIN:DAYLIGHT
TZOFFSETFROM:+0100
TZOFFSETTO:+0200
TZNAME:CEST
DTSTART:20170326T010000
END:DAYLIGHT
BEGIN:STANDARD
TZOFFSETFROM:+0200
TZOFFSETTO:+0100
TZNAME:CET
DTSTART:20171029T010000
END:STANDARD
END:VTIMEZONE
BEGIN:VEVENT
DTSTART;TZID=Europe/Stockholm:20170411T140000
DTEND;TZID=Europe/Stockholm:20170411T170000
DTSTAMP:20260419T200315
CREATED:20170329T082952Z
LAST-MODIFIED:20170329T082952Z
UID:12933-1491919200-1491930000@arkiv.gratisuppsala.se
SUMMARY:Sagobildsverkstad på Stadsbiblioteket
DESCRIPTION:Kom och måla på Stadsbiblioteket\nTecknar- och målarverkstad! Bror Hjorths Hus gästar Stadsbiblioteket och skapar sagobilder med inspiration av Anna Höglunds böcker. \n\n\n\nDrop-in för barn från 3 år och uppåt. \nTid och plats \nTisdag 11 april kl 13.00-16.00 \nStadsbiblioteket\, Skattkammaren \nBilden hämtad från pixabay.com \n\n Dela evenemanget
URL:https://arkiv.gratisuppsala.se/event/sagobildsverkstad-pa-stadsbiblioteket/
LOCATION:Stadsbiblioteket\, Svartbäcksgatan 17\, Uppsala\, 75320\, Sverige
CATEGORIES:Litteratur och Poesi,Prova-på
ATTACH;FMTTYPE=image/jpeg:https://arkiv.gratisuppsala.se/wp-content/uploads/2017/03/paint-328676_640.jpg
ORGANIZER;CN="Bibliotek%20Uppsala":MAILTO:kundtjanst@bibliotekuppsala.se
GEO:59.8606206;17.6353278
X-APPLE-STRUCTURED-LOCATION;VALUE=URI;X-ADDRESS=Stadsbiblioteket Svartbäcksgatan 17 Uppsala 75320 Sverige;X-APPLE-RADIUS=500;X-TITLE=Svartbäcksgatan 17:geo:17.6353278,59.8606206
END:VEVENT
END:VCALENDAR