BEGIN:VCALENDAR
VERSION:2.0
PRODID:-//Gratis Uppsala - ECPv5.2.1//NONSGML v1.0//EN
CALSCALE:GREGORIAN
METHOD:PUBLISH
X-WR-CALNAME:Gratis Uppsala
X-ORIGINAL-URL:https://arkiv.gratisuppsala.se
X-WR-CALDESC:Händelser för Gratis Uppsala
BEGIN:VTIMEZONE
TZID:Europe/Stockholm
BEGIN:DAYLIGHT
TZOFFSETFROM:+0100
TZOFFSETTO:+0200
TZNAME:CEST
DTSTART:20160327T010000
END:DAYLIGHT
BEGIN:STANDARD
TZOFFSETFROM:+0200
TZOFFSETTO:+0100
TZNAME:CET
DTSTART:20161030T010000
END:STANDARD
END:VTIMEZONE
BEGIN:VEVENT
DTSTART;TZID=Europe/Stockholm:20160303T100000
DTEND;TZID=Europe/Stockholm:20160303T104500
DTSTAMP:20260420T015714
CREATED:20151230T094155Z
LAST-MODIFIED:20151230T094155Z
UID:5566-1456999200-1457001900@arkiv.gratisuppsala.se
SUMMARY:Sagostund med Paula
DESCRIPTION:Sagostund med Paula som berättar och läser sagor för barn 3-5 år på Brantingsbiblioteket. \nTorsdag 3 mars kl 10-10.45. Gratis. Ingen föranmälan. \nFörskolor är välkomna\, max 8 barn/förskola\, men då behöver biblioteket ha anmälan en vecka i förväg. \nBild: flickr.com. \nDela evenemanget
URL:https://arkiv.gratisuppsala.se/event/sagostund-med-paula-3/
LOCATION:Brantingsbiblioteket\, Brantingstorg 5\, Uppsala\, 754 34\, Sverige
ATTACH;FMTTYPE=image/jpeg:https://arkiv.gratisuppsala.se/wp-content/uploads/2015/12/bokuppslag.jpg
ORGANIZER;CN="Bibliotek%20Uppsala":MAILTO:kundtjanst@bibliotekuppsala.se
GEO:59.8685048;17.6708287
X-APPLE-STRUCTURED-LOCATION;VALUE=URI;X-ADDRESS=Brantingsbiblioteket Brantingstorg 5 Uppsala 754 34 Sverige;X-APPLE-RADIUS=500;X-TITLE=Brantingstorg 5:geo:17.6708287,59.8685048
END:VEVENT
END:VCALENDAR