BEGIN:VCALENDAR
VERSION:2.0
PRODID:-//Gratis Uppsala - ECPv5.2.1//NONSGML v1.0//EN
CALSCALE:GREGORIAN
METHOD:PUBLISH
X-WR-CALNAME:Gratis Uppsala
X-ORIGINAL-URL:https://arkiv.gratisuppsala.se
X-WR-CALDESC:Händelser för Gratis Uppsala
BEGIN:VTIMEZONE
TZID:Europe/Stockholm
BEGIN:DAYLIGHT
TZOFFSETFROM:+0100
TZOFFSETTO:+0200
TZNAME:CEST
DTSTART:20180325T010000
END:DAYLIGHT
BEGIN:STANDARD
TZOFFSETFROM:+0200
TZOFFSETTO:+0100
TZNAME:CET
DTSTART:20181028T010000
END:STANDARD
END:VTIMEZONE
BEGIN:VEVENT
DTSTART;TZID=Europe/Stockholm:20180923T150000
DTEND;TZID=Europe/Stockholm:20180923T153000
DTSTAMP:20260420T131323
CREATED:20180910T160855Z
LAST-MODIFIED:20181108T111741Z
UID:26589-1537714800-1537716600@arkiv.gratisuppsala.se
SUMMARY:Sagostund på Serbiska/Kroatiska/Bosniska på Uppsala Stadsbibliotek
DESCRIPTION:Sagostund på Serbiska/Kroatiska/Bosniska på Uppsala Stadsbibliotek\nMila Marjanac-Tűri läser sagor på serbiska för barn. \nDatum: Söndagarna 23 september\, 28 oktober och 18 november 2018\nTid: 14:00\nPlats: Skattkammaren\, Stadsbibliotekets barnavdelning\, Svartbäcksgatan 17\, Uppsala\nÅlder: För barn 3-6 år.\nPris: Gratis. Inga biljetter\, ingen föranmälan\n \n  \n\nBesök gärna länkarna nedan (externa länkar öppnas i nytt fönster/flik). \nUppsala Stadsbibliotek | Fler event för dig med mer än ett språk \nBild: FictionChick @DeviantArt \nDela evenemanget
URL:https://arkiv.gratisuppsala.se/event/sagostund-pa-serbiska-kroatiska-bosniska-pa-uppsala-stadsbibliotek/2018-09-23/
LOCATION:Uppsala Stadsbiblioteket\, Svartbäcksgatan 17\, Uppsala\, Uppsala\, 753 75 Uppsala\, Sverige
CATEGORIES:Familj,Flerspråkighet,Litteratur och Poesi
ATTACH;FMTTYPE=image/jpeg:https://arkiv.gratisuppsala.se/wp-content/uploads/2018/08/portable_magic_by_fictionchick-d5mjbd8-e1536598395854.jpg
GEO:59.8606206;17.6353278
X-APPLE-STRUCTURED-LOCATION;VALUE=URI;X-ADDRESS=Uppsala Stadsbiblioteket Svartbäcksgatan 17 Uppsala Uppsala 753 75 Uppsala Sverige;X-APPLE-RADIUS=500;X-TITLE=Svartbäcksgatan 17:geo:17.6353278,59.8606206
END:VEVENT
END:VCALENDAR