BEGIN:VCALENDAR
VERSION:2.0
PRODID:-//Gratis Uppsala - ECPv5.2.1//NONSGML v1.0//EN
CALSCALE:GREGORIAN
METHOD:PUBLISH
X-WR-CALNAME:Gratis Uppsala
X-ORIGINAL-URL:https://arkiv.gratisuppsala.se
X-WR-CALDESC:Händelser för Gratis Uppsala
BEGIN:VTIMEZONE
TZID:Europe/Stockholm
BEGIN:DAYLIGHT
TZOFFSETFROM:+0100
TZOFFSETTO:+0200
TZNAME:CEST
DTSTART:20150329T010000
END:DAYLIGHT
BEGIN:STANDARD
TZOFFSETFROM:+0200
TZOFFSETTO:+0100
TZNAME:CET
DTSTART:20151025T010000
END:STANDARD
END:VTIMEZONE
BEGIN:VEVENT
DTSTART;TZID=Europe/Stockholm:20151001T110000
DTEND;TZID=Europe/Stockholm:20150923T010000
DTSTAMP:20260420T093146
CREATED:20150923T085307Z
LAST-MODIFIED:20150923T085307Z
UID:3892-1443697200-1442970000@arkiv.gratisuppsala.se
SUMMARY:Sagostund
DESCRIPTION:Torsdag. 2015-10-01. kl. 10.00. (10/9\, 1/10\, 22/10). Sagostund\nPaula läser sagor för barn 3–5 år. Förskolor anmäler en vecka i förväg. \nDela evenemanget
URL:https://arkiv.gratisuppsala.se/event/sagostund/
LOCATION:Brantingsbiblioteket\, Brantingstorg 5\, Uppsala\, 754 34\, Sverige
GEO:59.8685048;17.6708287
X-APPLE-STRUCTURED-LOCATION;VALUE=URI;X-ADDRESS=Brantingsbiblioteket Brantingstorg 5 Uppsala 754 34 Sverige;X-APPLE-RADIUS=500;X-TITLE=Brantingstorg 5:geo:17.6708287,59.8685048
END:VEVENT
END:VCALENDAR