BEGIN:VCALENDAR
VERSION:2.0
PRODID:-//Gratis Uppsala - ECPv5.2.1//NONSGML v1.0//EN
CALSCALE:GREGORIAN
METHOD:PUBLISH
X-WR-CALNAME:Gratis Uppsala
X-ORIGINAL-URL:https://arkiv.gratisuppsala.se
X-WR-CALDESC:Händelser för Gratis Uppsala
BEGIN:VTIMEZONE
TZID:Europe/Stockholm
BEGIN:DAYLIGHT
TZOFFSETFROM:+0100
TZOFFSETTO:+0200
TZNAME:CEST
DTSTART:20160327T010000
END:DAYLIGHT
BEGIN:STANDARD
TZOFFSETFROM:+0200
TZOFFSETTO:+0100
TZNAME:CET
DTSTART:20161030T010000
END:STANDARD
END:VTIMEZONE
BEGIN:VEVENT
DTSTART;TZID=Europe/Stockholm:20160212T143000
DTEND;TZID=Europe/Stockholm:20160212T150000
DTSTAMP:20260421T083847
CREATED:20160208T091638Z
LAST-MODIFIED:20160208T092237Z
UID:6085-1455287400-1455289200@arkiv.gratisuppsala.se
SUMMARY:Sagoväskan
DESCRIPTION:Var med och öppna Sagoväskan på Stenhagenbiblioteket på fredag! \nSagoväskan innehåller både nya och gamla sagor och passar för barn som är 3-5 år.\nIngen föranmälan. \nBild: pixabay.com. \nDela evenemanget
URL:https://arkiv.gratisuppsala.se/event/sagovaskan/
LOCATION:Stenhagenbiblioteket\, Herrhagsvägen 8\, Uppsala
ATTACH;FMTTYPE=image/jpeg:https://arkiv.gratisuppsala.se/wp-content/uploads/2016/02/sagoväskan.jpg
ORGANIZER;CN="Bibliotek%20Uppsala":MAILTO:kundtjanst@bibliotekuppsala.se
END:VEVENT
END:VCALENDAR