BEGIN:VCALENDAR
VERSION:2.0
PRODID:-//Gratis Uppsala - ECPv5.2.1//NONSGML v1.0//EN
CALSCALE:GREGORIAN
METHOD:PUBLISH
X-WR-CALNAME:Gratis Uppsala
X-ORIGINAL-URL:https://arkiv.gratisuppsala.se
X-WR-CALDESC:Händelser för Gratis Uppsala
BEGIN:VTIMEZONE
TZID:Europe/Stockholm
BEGIN:DAYLIGHT
TZOFFSETFROM:+0100
TZOFFSETTO:+0200
TZNAME:CEST
DTSTART:20170326T010000
END:DAYLIGHT
BEGIN:STANDARD
TZOFFSETFROM:+0200
TZOFFSETTO:+0100
TZNAME:CET
DTSTART:20171029T010000
END:STANDARD
END:VTIMEZONE
BEGIN:VEVENT
DTSTART;TZID=Europe/Stockholm:20170916T120000
DTEND;TZID=Europe/Stockholm:20170916T130000
DTSTAMP:20260420T125307
CREATED:20170915T072215Z
LAST-MODIFIED:20170915T072215Z
UID:18387-1505563200-1505566800@arkiv.gratisuppsala.se
SUMMARY:Sagoyoga för barn från 4 år - Gottsundabilioteket
DESCRIPTION:Sagoyoga för barn från 4 år\n\n\n\nFölj med in i sagornas förtrollade värld!\nDet enda som behövs för sagoyoga är nyfikenhet\, det har barn ofta gott om. Yoga hjälper barn till bättre hälsa\, kondition och koncentration.  Sagoyoga är till för att stärka barnens kroppar och deras självförtroende\, samt är både spännande och avslappnande. Med yoga tränar man balans\, motorik\, koordination\, andning\, styrka och avslappning. \nFöräldrar väntar utanför. \nInstruktör: Marika Andersson. \nTid: Lördag 16 september klockan 11.00\nPlats: Gottsundabiblioteket\, Temaverkstan \nGratisbiljetter hämtas tidigast två veckor innan! \nLäs mer om eventet på Bibliotek Uppsalas hemsida\, här. \n  \nBild från pixabay.com \n\n Dela evenemanget
URL:https://arkiv.gratisuppsala.se/event/sagoyoga-barn-fran-4-ar/
LOCATION:Gottsundabiblioteket\, Valthornsvägen 11\, Uppsala\, 756 50 \, Sverige
CATEGORIES:Kropp och Själ,Litteratur och Poesi,Sport & Motion
ATTACH;FMTTYPE=image/jpeg:https://arkiv.gratisuppsala.se/wp-content/uploads/2017/09/Barnyoga-e1535024984963.jpg
ORGANIZER;CN="Bibliotek%20Uppsala":MAILTO:kundtjanst@bibliotekuppsala.se
GEO:59.8093409;17.6295555
X-APPLE-STRUCTURED-LOCATION;VALUE=URI;X-ADDRESS=Gottsundabiblioteket Valthornsvägen 11 Uppsala 756 50  Sverige;X-APPLE-RADIUS=500;X-TITLE=Valthornsvägen 11:geo:17.6295555,59.8093409
END:VEVENT
END:VCALENDAR