BEGIN:VCALENDAR
VERSION:2.0
PRODID:-//Gratis Uppsala - ECPv5.2.1//NONSGML v1.0//EN
CALSCALE:GREGORIAN
METHOD:PUBLISH
X-WR-CALNAME:Gratis Uppsala
X-ORIGINAL-URL:https://arkiv.gratisuppsala.se
X-WR-CALDESC:Händelser för Gratis Uppsala
BEGIN:VTIMEZONE
TZID:Europe/Stockholm
BEGIN:DAYLIGHT
TZOFFSETFROM:+0100
TZOFFSETTO:+0200
TZNAME:CEST
DTSTART:20200329T010000
END:DAYLIGHT
BEGIN:STANDARD
TZOFFSETFROM:+0200
TZOFFSETTO:+0100
TZNAME:CET
DTSTART:20201025T010000
END:STANDARD
END:VTIMEZONE
BEGIN:VEVENT
DTSTART;TZID=Europe/Stockholm:20200531T100000
DTEND;TZID=Europe/Stockholm:20200531T160000
DTSTAMP:20260422T140323
CREATED:20200528T145233Z
LAST-MODIFIED:20200528T145753Z
UID:45722-1590919200-1590940800@arkiv.gratisuppsala.se
SUMMARY:Salsta - Öppet slott och kafé 31 maj 2020
DESCRIPTION:Salsta – Öppet slott och kafé 31 maj 2020\nVälkommen till Salsta slott – öppet slott och kafé söndag 31 maj!\nSlottets värdar firar att Salstaleden invigs\, att det är Åstråken dag\, att det är Mors dag samt att de äntligen får hälsa dig välkommen till slottet! \nVälkommen att på egen hand besöka exempelvis Kungssalen\, Riddarsalen\, Drottningrummet och kapellet. Slottets värdar finns tillgängliga för frågor och visar dig i rätt riktning. \nDatum: Söndagen den 31 maj 2020\nTid: 10.00 – 16.00\nPlats: Salsta Slott\nPris:  \nEntré 40 kronor\, barn och unga till och med 15 år gratis.\nDu kan betala med swish men inte betalning med kort. \nFörköp: \nFör snabb entré på söndag kan du köpa biljett inför besöket.\nSwisha entréavgiften till 070-654 07 85 och visa upp sms i entrén. \n  \n \n  \n\nOm Salsta Slott\n  \nKAFÉ I VINTERTRÄDGÅRDEN OCH I SLOTTSPARKEN\nFikar gör du i Vinterträdgården eller i slottsparken. Meny för dagen hittar du hos Handjord av Kullstrand. \nHITTA HIT\nSalsta slott ligger cirka 2\,5 mil norr om Uppsala och är beläget längs Salstaleden\, den natursköna vandringsled som löper från järnvägsstationen i Vattholma till järnvägsstationen i Skyttorp. Till Salsta slott kan du ta dig enkelt med tåg\, buss eller bil (till exempel 13 minuter med Upptåget från Uppsala till Vattholma station). Från stationen i Vattholma är det cirka 2\,7 km till slottet och från busshållplatsen Salsta\, som trafikeras av UL:s busslinje 823\, cirka 1 km. Parkeringsplats\, även för chartrade bussar\, finns cirka 200 meter från slottsgrinden. \nTILLGÄNGLIGHET\nSlottets bottenvåning\, som bland annat rymmer kafé i Vinterträdgården\, toaletter och kapphall\, är tillgänglighetsanpassat med ingång direkt från markplan och utan trösklar. Hiss saknas dock till övriga våningsplan. \nVAR RÄDDA OM VARANDRA – HÅLL AVSTÅND\nVi följer myndigheternas rekommendationer vilket gör att högst 40 besökare finns inne i slottet samtidigt. Om du är sjuk ber vi dig att stanna hemma för din egen skull och för att skydda andra. \n  \n\nBesök gärna länkarna nedan (externa länkar öppnas i ett nytt fönster/flik).\nÖppet hus på Salsta Slott | Salsta slott | Kommande event \nFoto: Alexandru Baboş \nDela evenemanget
URL:https://arkiv.gratisuppsala.se/event/salsta-oppet-slott-31-maj-2020/
LOCATION:Salsta Slott\, Lena Salsta 63\, Uppsala\, Vattholma\, Sverige
CATEGORIES:60+,Ålderskategori,Anmälan / Kostnad,Barn,Biljett på plats,Eventkategori,Familj,Förköp / Bokning,Geografisk kategori,Gratis för vissa åldersgrupper,Historia,Högtid,Ingen föranmälan,Natur,Öppet Hus,Ungdom,Uppsala Kommun,Vandring,Vuxen
ATTACH;FMTTYPE=image/jpeg:https://arkiv.gratisuppsala.se/wp-content/uploads/2020/05/1280px-Salsta_slott_i_landskapet-e1590675821204.jpg
ORGANIZER;CN="Salsta%20Slott":MAILTO:info@salsta-slott.se
END:VEVENT
END:VCALENDAR