BEGIN:VCALENDAR
VERSION:2.0
PRODID:-//Gratis Uppsala - ECPv5.2.1//NONSGML v1.0//EN
CALSCALE:GREGORIAN
METHOD:PUBLISH
X-WR-CALNAME:Gratis Uppsala
X-ORIGINAL-URL:https://arkiv.gratisuppsala.se
X-WR-CALDESC:Händelser för Gratis Uppsala
BEGIN:VTIMEZONE
TZID:Europe/Stockholm
BEGIN:DAYLIGHT
TZOFFSETFROM:+0100
TZOFFSETTO:+0200
TZNAME:CEST
DTSTART:20170326T010000
END:DAYLIGHT
BEGIN:STANDARD
TZOFFSETFROM:+0200
TZOFFSETTO:+0100
TZNAME:CET
DTSTART:20171029T010000
END:STANDARD
END:VTIMEZONE
BEGIN:VEVENT
DTSTART;TZID=Europe/Stockholm:20170307T180000
DTEND;TZID=Europe/Stockholm:20170307T190000
DTSTAMP:20260420T094641
CREATED:20170306T082726Z
LAST-MODIFIED:20170306T082726Z
UID:12287-1488909600-1488913200@arkiv.gratisuppsala.se
SUMMARY:Sångkonsert
DESCRIPTION:Sångkonsert Kulturskolans sångelever bjuder på ett blandat program. \nFrån klockan 18.00 i Kulturskolans orkestersal\, Kyrkogatan 2. \nEvenemang för hela familjen kan komma. \nFri entré. \nDela evenemanget
URL:https://arkiv.gratisuppsala.se/event/sangkonsert/
LOCATION:Kulturskolan\, Kyrkogatan 2\, Enköping\, 745 31\, Sverige
CATEGORIES:Dans,Kulturnatten,Vuxen
ATTACH;FMTTYPE=image/png:https://arkiv.gratisuppsala.se/wp-content/uploads/2017/03/sångkonsert.png
ORGANIZER;CN="Enk%C3%B6pings%20kulturskola":MAILTO: kulturskolan@enkoping.se
GEO:59.6381959;17.0809277
X-APPLE-STRUCTURED-LOCATION;VALUE=URI;X-ADDRESS=Kulturskolan Kyrkogatan 2 Enköping 745 31 Sverige;X-APPLE-RADIUS=500;X-TITLE=Kyrkogatan 2:geo:17.0809277,59.6381959
END:VEVENT
END:VCALENDAR