BEGIN:VCALENDAR
VERSION:2.0
PRODID:-//Gratis Uppsala - ECPv5.2.1//NONSGML v1.0//EN
CALSCALE:GREGORIAN
METHOD:PUBLISH
X-WR-CALNAME:Gratis Uppsala
X-ORIGINAL-URL:https://arkiv.gratisuppsala.se
X-WR-CALDESC:Händelser för Gratis Uppsala
BEGIN:VTIMEZONE
TZID:Europe/Stockholm
BEGIN:DAYLIGHT
TZOFFSETFROM:+0100
TZOFFSETTO:+0200
TZNAME:CEST
DTSTART:20160327T010000
END:DAYLIGHT
BEGIN:STANDARD
TZOFFSETFROM:+0200
TZOFFSETTO:+0100
TZNAME:CET
DTSTART:20161030T010000
END:STANDARD
END:VTIMEZONE
BEGIN:VEVENT
DTSTART;TZID=Europe/Stockholm:20160410T150000
DTEND;TZID=Europe/Stockholm:20160410T150000
DTSTAMP:20260419T190303
CREATED:20160127T102349Z
LAST-MODIFIED:20160127T102349Z
UID:5982-1460300400-1460300400@arkiv.gratisuppsala.se
SUMMARY:Sator på Kulturoasen
DESCRIPTION:Tre femtedelar av de svenska rocklegendarerna SATOR kommer till Kulturoasen för en akustisk konsert. Trion bestående av Chips Kiesbye\, Kent Norberg och Heikki Kiviaho kommer att ge så väl publik som sig själva en annorlunda lunchkonsert. \n”Vi kommer naturligtvis att spela det bästa vi har men även några av de mer obskyra ädelstenarna. En och annan noggrant utvald cover kommer också att brännas av. Det man med säkerhet kan säga är att det kommer bli bra\, nära\, på riktigt och oberäkneligt. Med oss tre på scen med så här pass fria musikaliska tyglar kan I alla fall inte jag riktigt säga vart det kan sluta\, säger Kent Norberg.” \nFrivillig entré \nSator’s hemsida | Sator’s facebook \nSATOR\nBorlängebandet Sator är en institution inom svenskt rockliv och har levererat hits som ”I wanna go home”\, ”World” och ”I rather drink than talk”. Nu kommer de till Kulturoasen med en specialkonsert för att visa var skåpet ska stå. 1992 fick de en Grammis för bästa hårdrocksalbum\, Headquake. Sator har kallats för ”Hultfreds enda husband” då de under 1980- och 1990-talen var en ständigt återkommande del av Hultsfredsfestivalen. \nDela evenemanget
URL:https://arkiv.gratisuppsala.se/event/sator-pa-kulturoasen/
LOCATION:Kulturoasen\, Hågavägen 190\, Uppsala
CATEGORIES:Sång och Musik
ATTACH;FMTTYPE=image/jpeg:https://arkiv.gratisuppsala.se/wp-content/uploads/2016/01/sator-top-e1453890209316.jpg
GEO:59.8381745;17.5761698
X-APPLE-STRUCTURED-LOCATION;VALUE=URI;X-ADDRESS=Kulturoasen Hågavägen 190 Uppsala;X-APPLE-RADIUS=500;X-TITLE=Hågavägen 190:geo:17.5761698,59.8381745
END:VEVENT
END:VCALENDAR