BEGIN:VCALENDAR
VERSION:2.0
PRODID:-//Gratis Uppsala - ECPv5.2.1//NONSGML v1.0//EN
CALSCALE:GREGORIAN
METHOD:PUBLISH
X-WR-CALNAME:Gratis Uppsala
X-ORIGINAL-URL:https://arkiv.gratisuppsala.se
X-WR-CALDESC:Händelser för Gratis Uppsala
BEGIN:VTIMEZONE
TZID:Europe/Stockholm
BEGIN:DAYLIGHT
TZOFFSETFROM:+0100
TZOFFSETTO:+0200
TZNAME:CEST
DTSTART:20160327T010000
END:DAYLIGHT
BEGIN:STANDARD
TZOFFSETFROM:+0200
TZOFFSETTO:+0100
TZNAME:CET
DTSTART:20161030T010000
END:STANDARD
END:VTIMEZONE
BEGIN:VEVENT
DTSTART;TZID=Europe/Stockholm:20160414T200000
DTEND;TZID=Europe/Stockholm:20160414T200000
DTSTAMP:20260421T223837
CREATED:20160329T070437Z
LAST-MODIFIED:20160329T071439Z
UID:6578-1460664000-1460664000@arkiv.gratisuppsala.se
SUMMARY:Saurons ringar och Feanors ädelstenar
DESCRIPTION:Martin Rundkvist håller ett föredrag. \nSaurons ringar och Feanors ädelstenar – om kraftbärande föremål hos JRR Tolkien. \nGratis entré \nPlats: Upplandsmuseets hörsal \nDela evenemanget
URL:https://arkiv.gratisuppsala.se/event/saurons-ringar-och-feanors-adelstenar/
LOCATION:Upplandsmuseet\, Fyristorg 2\, Uppsala\, Sverige
CATEGORIES:Föreläsning och Kurs,Konst, Fotografi och Design,Samhälle,Utställning
ATTACH;FMTTYPE=image/jpeg:https://arkiv.gratisuppsala.se/wp-content/uploads/2016/03/Ring.jpg
GEO:59.85895;17.634901
X-APPLE-STRUCTURED-LOCATION;VALUE=URI;X-ADDRESS=Upplandsmuseet Fyristorg 2 Uppsala Sverige;X-APPLE-RADIUS=500;X-TITLE=Fyristorg 2:geo:17.634901,59.85895
END:VEVENT
END:VCALENDAR