BEGIN:VCALENDAR
VERSION:2.0
PRODID:-//Gratis Uppsala - ECPv5.2.1//NONSGML v1.0//EN
CALSCALE:GREGORIAN
METHOD:PUBLISH
X-WR-CALNAME:Gratis Uppsala
X-ORIGINAL-URL:https://arkiv.gratisuppsala.se
X-WR-CALDESC:Händelser för Gratis Uppsala
BEGIN:VTIMEZONE
TZID:Europe/Stockholm
BEGIN:DAYLIGHT
TZOFFSETFROM:+0100
TZOFFSETTO:+0200
TZNAME:CEST
DTSTART:20150329T010000
END:DAYLIGHT
BEGIN:STANDARD
TZOFFSETFROM:+0200
TZOFFSETTO:+0100
TZNAME:CET
DTSTART:20151025T010000
END:STANDARD
END:VTIMEZONE
BEGIN:VEVENT
DTSTART;TZID=Europe/Stockholm:20151008T103000
DTEND;TZID=Europe/Stockholm:20151008T123000
DTSTAMP:20260421T081405
CREATED:20151005T132032Z
LAST-MODIFIED:20151005T132427Z
UID:4056-1444300200-1444307400@arkiv.gratisuppsala.se
SUMMARY:Schack för alla
DESCRIPTION:Schack för alla arrangeras varje vecka på torsdagar till den 17 december 2015. För nybörjare och ”köksbordsspelare”. Ledare Bo Nyberg. \n  \nDela evenemanget
URL:https://arkiv.gratisuppsala.se/event/schack-for-alla/
LOCATION:Träffpunkt Storgatan\, Storgatan 11\, Uppsala
CATEGORIES:60+
ORGANIZER;CN="Tr%C3%A4ffpunkt%20Storgatan%2011":MAILTO:info@storgatan11.se
GEO:59.8629605;17.6407312
X-APPLE-STRUCTURED-LOCATION;VALUE=URI;X-ADDRESS=Träffpunkt Storgatan Storgatan 11 Uppsala;X-APPLE-RADIUS=500;X-TITLE=Storgatan 11:geo:17.6407312,59.8629605
END:VEVENT
END:VCALENDAR