BEGIN:VCALENDAR
VERSION:2.0
PRODID:-//Gratis Uppsala - ECPv5.2.1//NONSGML v1.0//EN
CALSCALE:GREGORIAN
METHOD:PUBLISH
X-WR-CALNAME:Gratis Uppsala
X-ORIGINAL-URL:https://arkiv.gratisuppsala.se
X-WR-CALDESC:Händelser för Gratis Uppsala
BEGIN:VTIMEZONE
TZID:Europe/Stockholm
BEGIN:DAYLIGHT
TZOFFSETFROM:+0100
TZOFFSETTO:+0200
TZNAME:CEST
DTSTART:20150329T010000
END:DAYLIGHT
BEGIN:STANDARD
TZOFFSETFROM:+0200
TZOFFSETTO:+0100
TZNAME:CET
DTSTART:20151025T010000
END:STANDARD
END:VTIMEZONE
BEGIN:VEVENT
DTSTART;TZID=Europe/Stockholm:20151014T190000
DTEND;TZID=Europe/Stockholm:20151014T210000
DTSTAMP:20260419T184529
CREATED:20150824T092502Z
LAST-MODIFIED:20151013T074326Z
UID:3450-1444849200-1444856400@arkiv.gratisuppsala.se
SUMMARY:Diplomati eller vapen? Hur skapas mänsklig säkerhet?
DESCRIPTION:Diplomati eller vapen? Hur skapas mänsklig säkerhet? \nEtt samtal mellan Maj-Britt Theorin och PM Nilsson under ledning av Stina Oscarson. \nDela evenemanget
URL:https://arkiv.gratisuppsala.se/event/sjukvard-i-skottlinjen/
LOCATION:Fredens Hus\, Uppsala slott\, Uppsala\, 75237\, Sverige
CATEGORIES:Föreläsning och Kurs,Samhälle
GEO:59.853262;17.6356163
X-APPLE-STRUCTURED-LOCATION;VALUE=URI;X-ADDRESS=Fredens Hus Uppsala slott Uppsala 75237 Sverige;X-APPLE-RADIUS=500;X-TITLE=Uppsala slott:geo:17.6356163,59.853262
END:VEVENT
END:VCALENDAR