BEGIN:VCALENDAR
VERSION:2.0
PRODID:-//Gratis Uppsala - ECPv5.2.1//NONSGML v1.0//EN
CALSCALE:GREGORIAN
METHOD:PUBLISH
X-WR-CALNAME:Gratis Uppsala
X-ORIGINAL-URL:https://arkiv.gratisuppsala.se
X-WR-CALDESC:Händelser för Gratis Uppsala
BEGIN:VTIMEZONE
TZID:Europe/Stockholm
BEGIN:DAYLIGHT
TZOFFSETFROM:+0100
TZOFFSETTO:+0200
TZNAME:CEST
DTSTART:20200329T010000
END:DAYLIGHT
BEGIN:STANDARD
TZOFFSETFROM:+0200
TZOFFSETTO:+0100
TZNAME:CET
DTSTART:20201025T010000
END:STANDARD
END:VTIMEZONE
BEGIN:VEVENT
DTSTART;TZID=Europe/Stockholm:20200721T140000
DTEND;TZID=Europe/Stockholm:20200721T183000
DTSTAMP:20260420T144255
CREATED:20200707T124430Z
LAST-MODIFIED:20200707T124430Z
UID:46582-1595340000-1595356200@arkiv.gratisuppsala.se
SUMMARY:Skattjakt för barn på Sävjabiblioteket
DESCRIPTION:Skattjakt för barn på Sävjabiblioteket\nEn litterär skattjakt på Sävjabiblioteket!\nLös rebusar\, gåtor och luriga ledtrådar i en litterär skattjakt och vinn ett fint bokpris. Skattjakten är anpassad för barn 10-15 år\, men deltagare i alla åldrar är välkomna! Yngre barn bör dock ha hjälp av medföljande vuxen. \nDet går utmärkt att skattjaga i lag – så länge man är personer som brukar umgås i vanliga fall och håller sig på gott avstånd från alla andra.\nBlir det många som vill skattjaga på samma gång kan man få vänta en stund på sin tur. \nDatum: Tisdag 21 juli 2020.\nTid: 14:00 – 18:30.\nPlats: Sävjabiblioteket\, Västgötaresan 133\, 757 54 Uppsala.\nÅlder: Anpassad för barn 10-15 år\, men deltagare i alla åldrar är välkomna!\nAnmälan: Ingen anmälan behövs utan det är drop-in.\nKostnad: Gratis. \n\nOm Bibliotek Uppsala\nBibliotek Uppsala är en plats för möten\, kunskap och upplevelser. Tanken är att ge alla Uppsalabor tillgång till berättelser och information som kan ge nya insikter och nya perspektiv. Genom ett författarsamtal\, en bok\, en utställning\, en sagostund eller någon annan av de hundratals aktiviteter och arrangemang som erbjuds varje år. \n\nBesök gärna länkarna nedan (externa länkar öppnas i ett nytt fönster/flik).\nSävjabibliotekets facebook | Kommande event under sommarlovet 2020 | Kommande event inom Litteratur och Poesi | Kommande event inom Spel & tävling \nDela evenemanget
URL:https://arkiv.gratisuppsala.se/event/skattjakt-for-barn-pa-savjabiblioteket/
LOCATION:Sävjabiblioteket\, Västgötaresan 133\, Uppsala\, 757 54\, Sverige
CATEGORIES:Ålderskategori,Anmälan / Kostnad,Barn,Bibliotek,Eventkategori,Familj,Geografisk kategori,Gratis,Ingen föranmälan,Litteratur och Poesi,Sävja,Skollov,Sommarlov,Spel & tävling,Tipsrunda,Ungdom,Uppsala,Uppsala Kommun
ATTACH;FMTTYPE=image/jpeg:https://arkiv.gratisuppsala.se/wp-content/uploads/2020/01/tale-4221486_1280-e1579091184373.jpg
ORGANIZER;CN="S%C3%A4vjabiblioteket":MAILTO:savjabiblioteket@uppsala.se
GEO:59.810724;17.702339
X-APPLE-STRUCTURED-LOCATION;VALUE=URI;X-ADDRESS=Sävjabiblioteket Västgötaresan 133 Uppsala 757 54 Sverige;X-APPLE-RADIUS=500;X-TITLE=Västgötaresan 133:geo:17.702339,59.810724
END:VEVENT
END:VCALENDAR