BEGIN:VCALENDAR
VERSION:2.0
PRODID:-//Gratis Uppsala - ECPv5.2.1//NONSGML v1.0//EN
CALSCALE:GREGORIAN
METHOD:PUBLISH
X-WR-CALNAME:Gratis Uppsala
X-ORIGINAL-URL:https://arkiv.gratisuppsala.se
X-WR-CALDESC:Händelser för Gratis Uppsala
BEGIN:VTIMEZONE
TZID:Europe/Stockholm
BEGIN:DAYLIGHT
TZOFFSETFROM:+0100
TZOFFSETTO:+0200
TZNAME:CEST
DTSTART:20150329T010000
END:DAYLIGHT
BEGIN:STANDARD
TZOFFSETFROM:+0200
TZOFFSETTO:+0100
TZNAME:CET
DTSTART:20151025T010000
END:STANDARD
END:VTIMEZONE
BEGIN:VEVENT
DTSTART;TZID=Europe/Stockholm:20150920T120000
DTEND;TZID=Europe/Stockholm:20150920T170000
DTSTAMP:20260420T051222
CREATED:20150831T074936Z
LAST-MODIFIED:20150831T075909Z
UID:3510-1442750400-1442768400@arkiv.gratisuppsala.se
SUMMARY:Skördefest på Wik den 20 september
DESCRIPTION:Söndagen den 20 september är det åter dags för skördefest på Wik\, en fröjd för alla sinnen med ett program som passar både gammal och ung.  \nDet blir försäljning av närodlat och hantverk\, underhållning och spännande aktiviteter för både barn och vuxna\, t.ex. äppelsafari med häst och vagn\, barnteater\, lek i Kojbyggarland\, musik\, se Mälarens fiskar och visning av Wiks slott. Gratis korv till alla! Servering. \nDela evenemanget
URL:https://arkiv.gratisuppsala.se/event/skordefest-pa-wik-den-20-september/
LOCATION:Wiks folkhögskola\, Viks mur 35\, Uppsala\, 755 91\, Sverige
CATEGORIES:Marknad & Loppis,Utflykt / Picknick
ATTACH;FMTTYPE=image/jpeg:https://arkiv.gratisuppsala.se/wp-content/uploads/2015/08/Grönsaker-e1439362331168.jpg
GEO:59.7364391;17.4675954
X-APPLE-STRUCTURED-LOCATION;VALUE=URI;X-ADDRESS=Wiks folkhögskola Viks mur 35 Uppsala 755 91 Sverige;X-APPLE-RADIUS=500;X-TITLE=Viks mur 35:geo:17.4675954,59.7364391
END:VEVENT
END:VCALENDAR