BEGIN:VCALENDAR
VERSION:2.0
PRODID:-//Gratis Uppsala - ECPv5.2.1//NONSGML v1.0//EN
CALSCALE:GREGORIAN
METHOD:PUBLISH
X-WR-CALNAME:Gratis Uppsala
X-ORIGINAL-URL:https://arkiv.gratisuppsala.se
X-WR-CALDESC:Händelser för Gratis Uppsala
BEGIN:VTIMEZONE
TZID:Europe/Stockholm
BEGIN:DAYLIGHT
TZOFFSETFROM:+0100
TZOFFSETTO:+0200
TZNAME:CEST
DTSTART:20170326T010000
END:DAYLIGHT
BEGIN:STANDARD
TZOFFSETFROM:+0200
TZOFFSETTO:+0100
TZNAME:CET
DTSTART:20171029T010000
END:STANDARD
END:VTIMEZONE
BEGIN:VEVENT
DTSTART;TZID=Europe/Stockholm:20170424T170000
DTEND;TZID=Europe/Stockholm:20170424T210000
DTSTAMP:20260420T180623
CREATED:20170324T095618Z
LAST-MODIFIED:20170424T080250Z
UID:12826-1493053200-1493067600@arkiv.gratisuppsala.se
SUMMARY:Slöjdkväll
DESCRIPTION:Slöjda i Enköping\nPrata\, fika\, umgås och slöjda! \nKom och tälj i färskt trä. Material och verktyg finns på plats. \nHandledare är Pea Sjölén\, länshemslöjdskonsulent. \nDrop-in mellan klockan 16.00 och 20.00 i ABF:s lokal\, Östra Järnvägsgatan. \nKostnadsfritt! \nBilden hämtad från pexels.com \nDela evenemanget
URL:https://arkiv.gratisuppsala.se/event/slojdkvall-2/
LOCATION:ABF Enköping\, Östra Järnvägsgatan 1\, Enköping\, 745 37 \, Sverige
CATEGORIES:Slöjd och Hantverk
ATTACH;FMTTYPE=image/jpeg:https://arkiv.gratisuppsala.se/wp-content/uploads/2016/08/pexels-photo-29596-large-e1528965510808.jpg
GEO:59.6467058;17.0850478
X-APPLE-STRUCTURED-LOCATION;VALUE=URI;X-ADDRESS=ABF Enköping Östra Järnvägsgatan 1 Enköping 745 37  Sverige;X-APPLE-RADIUS=500;X-TITLE=Östra Järnvägsgatan 1:geo:17.0850478,59.6467058
END:VEVENT
END:VCALENDAR