BEGIN:VCALENDAR
VERSION:2.0
PRODID:-//Gratis Uppsala - ECPv5.2.1//NONSGML v1.0//EN
CALSCALE:GREGORIAN
METHOD:PUBLISH
X-WR-CALNAME:Gratis Uppsala
X-ORIGINAL-URL:https://arkiv.gratisuppsala.se
X-WR-CALDESC:Händelser för Gratis Uppsala
BEGIN:VTIMEZONE
TZID:Europe/Stockholm
BEGIN:DAYLIGHT
TZOFFSETFROM:+0100
TZOFFSETTO:+0200
TZNAME:CEST
DTSTART:20190331T010000
END:DAYLIGHT
BEGIN:STANDARD
TZOFFSETFROM:+0200
TZOFFSETTO:+0100
TZNAME:CET
DTSTART:20191027T010000
END:STANDARD
END:VTIMEZONE
BEGIN:VEVENT
DTSTART;TZID=Europe/Stockholm:20191107T140000
DTEND;TZID=Europe/Stockholm:20191107T160000
DTSTAMP:20260423T124546
CREATED:20191028T151226Z
LAST-MODIFIED:20191028T151226Z
UID:38469-1573135200-1573142400@arkiv.gratisuppsala.se
SUMMARY:Små barn med autism | CFF föredrag
DESCRIPTION:Små barn med autism\nDen 7 november håller Elisabeth Nilsson Jobs\, legitimerad psykolog och filosofie doktor vid Institutionen för kvinnors och barns hälsa\, Karolinska institutet\, föredraget: Små barn med autism\, hur ser ovanliga beteenden ut hos dem?  \nDatum: Den 7 november 2019\nTid: 14.00-16.00\nPlats: Universitetshusets sal IV\, Biskopsgatan 3\, Uppsala\nPris: Gratis\nAnmälan:  \nE-post: cff@cff.uu.se\nTelefon: 018-471 64 45 \nÖvrigt: Rullstolsentré finns från adress Övre Slottsgatan 7D \n\nOm föreläsningen\nI föreläsningen Små barn med autism\, hur ser ovanliga beteenden ut hos dem? belyser Elisabeth Nilsson Jobs begränsade och repetitiva beteenden hos små barn med autism. \nElisabeth Nilsson Jobs är legitimerad psykolog och filosofie doktor vid Institutionen för kvinnors och barns hälsa\, Karolinska institutet. Hon disputerade i december 2018 med avhandlingen ”Recognizing Disability and Ability in Young Autistic Children”\, vars övergripande syfte var att förbättra tidig identifikation och tidigt erkännande av både funktionshinder och styrkor hos autistiska barn. \nDen här föreläsningen är ett av CFFs (centrum för forskning om funktionshinder) öppna föredrag som äger rum under hösten 2019. Centrum för forskning om funktionshinder vid Uppsala universitet är en samarbetsorganisation för forskare som sysslar med frågor om funktionshinder och funktionsnedsättning inom olika ämnen vid Uppsala universitets fakulteter. Forskningen bedrivs i huvudsak vid de egna institutionerna. Centrum ansvarar för vissa samordningsprojekt\, men framför allt för informationsspridning om forskning inom området. Syftet är att genom informationsutbyte mellan lärare\, forskare och doktorander samt intressenter utanför universitetet stimulera en långsiktig kunskapsuppbyggnad i frågor inom området. \n\nBesök gärna länkarna nedan (externa länkar öppnas i nytt fönster/flik).\nCentrum för forskning om funktionshinder | Elisabeth Nilsson Jobs avhandling | Kommande evenemang inom funktionsvariationer  \nDela evenemanget
URL:https://arkiv.gratisuppsala.se/event/sma-barn-med-autism-cff-foredrag/
LOCATION:Universitetshuset\, Biskopsgatan 3\, Uppsala\, 75310\, Sverige
CATEGORIES:60+,Ålderskategori,Anmälan,Anmälan / Kostnad,Eventkategori,För anhöriga,För föräldrar,Föreläsning och Kurs,Främre Luthagen - Fjärdingen,Funktionsvariationer,Geografisk kategori,Gratis,Kunskap och Lärande,Ungdom,Uppsala,Vuxen
ATTACH;FMTTYPE=image/jpeg:https://arkiv.gratisuppsala.se/wp-content/uploads/2019/10/autism-2377410__340.jpg
GEO:59.8577301;17.6298234
X-APPLE-STRUCTURED-LOCATION;VALUE=URI;X-ADDRESS=Universitetshuset Biskopsgatan 3 Uppsala 75310 Sverige;X-APPLE-RADIUS=500;X-TITLE=Biskopsgatan 3:geo:17.6298234,59.8577301
END:VEVENT
END:VCALENDAR