BEGIN:VCALENDAR
VERSION:2.0
PRODID:-//Gratis Uppsala - ECPv5.2.1//NONSGML v1.0//EN
CALSCALE:GREGORIAN
METHOD:PUBLISH
X-WR-CALNAME:Gratis Uppsala
X-ORIGINAL-URL:https://arkiv.gratisuppsala.se
X-WR-CALDESC:Händelser för Gratis Uppsala
BEGIN:VTIMEZONE
TZID:Europe/Stockholm
BEGIN:DAYLIGHT
TZOFFSETFROM:+0100
TZOFFSETTO:+0200
TZNAME:CEST
DTSTART:20200329T010000
END:DAYLIGHT
BEGIN:STANDARD
TZOFFSETFROM:+0200
TZOFFSETTO:+0100
TZNAME:CET
DTSTART:20201025T010000
END:STANDARD
END:VTIMEZONE
BEGIN:VEVENT
DTSTART;TZID=Europe/Stockholm:20200217T100000
DTEND;TZID=Europe/Stockholm:20200217T200000
DTSTAMP:20260420T165433
CREATED:20200211T124455Z
LAST-MODIFIED:20200211T124455Z
UID:41694-1581933600-1581969600@arkiv.gratisuppsala.se
SUMMARY:Smasha\, serva och skruva dig i form på sportlovet
DESCRIPTION:Smasha\, serva och skruva dig i form på sportlovet\nUnder hela sportlovsveckan är du välkommen att smasha\, serva och skruva dig i form! Det är helt gratis att komma och öva med dina kompisar. \nGränby Smash\nDet kommer även att finnas möjlighet att träna med en pingistränare från BTK för att vässa formen för de som anmält sig till helgens stora rundpingisturnering. I prispotten finns Gränbystadens presentkort laddat med 4000 kr till vinnande lag. Det kommer även att delas ut pris till bästa lagnamn och bästa laganda. \nDatum: \nMåndagen den 17 februari 2020\nTisdagen den 18 februari 2020\nOnsdagen den 19 februari 2020\nTorsdagen den 20 februari 2020\nFredagen den 21 februari 2020\nLördagen den 22 februari 2020\nSöndagen den 23 februari 2020 \nTid: 10:00-20:00\nPlats: Gränby köpcentrum\, Östra entrén\, plan 1 (mittemot Starbucks)\nÅlder: För alla!\nPris: Gratis \n  \n\nTräningstider\nÖppettider för dig som vill smasha\, serva och skruva dig i form: \nMåndag – Söndag: 10:00-20:00 \nTräning med pingistränare från BTK: \nOnsdag: 15:00 – 17:00\nTorsdag: 15:00 – 17:00 \n\nOm Gränbystaden\nGränbystaden ägs\, utvecklas och drivs av Atrium Ljungberg. Deras vision är att utveckla köpcentrumet Gränby Centrum till Gränbystaden – Uppsalas andra stadskärna. De vill skapa en plats där människor trivs\, där de vill träffas och handla\, äta och uppleva saker. \n\nBesök gärna länkarna nedan (externa länkar öppnas i ett nytt fönster/flik).\nRundpingis turnering på Gränby köpcentrum | Kommande event på Sportlovet \nBild: Gränbystaden \nDela evenemanget
URL:https://arkiv.gratisuppsala.se/event/smasha-serva-och-skruva-dig-i-form-pa-sportlovet/2020-02-17/
LOCATION:Gränbystaden\, Marknadsgatan 1\, \, Uppsala\, 754 60 \, Sverige
CATEGORIES:Ålderskategori,Anmälan / Kostnad,Årliga event,Barn,Eventkategori,Familj,Geografisk kategori,Gränby,Gratis,Ingen föranmälan,Skollov,Spel & tävling,Sport & Motion,Sportlov,Ungdom,Uppsala,Vuxen
ATTACH;FMTTYPE=image/png:https://arkiv.gratisuppsala.se/wp-content/uploads/2020/02/table-tennis-4046307_1280.png
GEO:59.8772243;17.6742898
X-APPLE-STRUCTURED-LOCATION;VALUE=URI;X-ADDRESS=Gränbystaden Marknadsgatan 1  Uppsala 754 60  Sverige;X-APPLE-RADIUS=500;X-TITLE=Marknadsgatan 1\,:geo:17.6742898,59.8772243
END:VEVENT
END:VCALENDAR