BEGIN:VCALENDAR
VERSION:2.0
PRODID:-//Gratis Uppsala - ECPv5.2.1//NONSGML v1.0//EN
CALSCALE:GREGORIAN
METHOD:PUBLISH
X-WR-CALNAME:Gratis Uppsala
X-ORIGINAL-URL:https://arkiv.gratisuppsala.se
X-WR-CALDESC:Händelser för Gratis Uppsala
BEGIN:VTIMEZONE
TZID:Europe/Stockholm
BEGIN:DAYLIGHT
TZOFFSETFROM:+0100
TZOFFSETTO:+0200
TZNAME:CEST
DTSTART:20200329T010000
END:DAYLIGHT
BEGIN:STANDARD
TZOFFSETFROM:+0200
TZOFFSETTO:+0100
TZNAME:CET
DTSTART:20201025T010000
END:STANDARD
END:VTIMEZONE
BEGIN:VEVENT
DTSTART;TZID=Europe/Stockholm:20200217T130000
DTEND;TZID=Europe/Stockholm:20200217T160000
DTSTAMP:20260420T015859
CREATED:20200214T104815Z
LAST-MODIFIED:20200214T104815Z
UID:42636-1581944400-1581955200@arkiv.gratisuppsala.se
SUMMARY:Sportlov: Smurfar på medicinhistoriska museet
DESCRIPTION:Sportlov: Smurfar på medicinhistoriska museet\nKom och leta smurfar och testa dina kunskaper på en tipsrunda. Hitta dem och svara på kluriga tipsfrågor. \nVälkommen in! \nDatum: \nMåndagen den 17 februari 2020\nTisdagen den 18 februari 2020\nOnsdagen den 19 februari 2020\nTorsdagen den 20 februari 2020\nFredagen den 21 februari 2020 \nTid: 13:00-16:00\nPlats: Medicinhistoriska museet\, Eva Lagerwalls väg 8\, 756 43 Uppsala.\nHitta dit: Klicka på länken för en karta\nÅlder: För hela familjen!\nPris: Kostnadsfritt\nAnmälan: Nej\, drop-in\nArrangör: Medicinhistoriska museet \n\nMedicinhistoriska museet\nMedicinhistoriska museet är inrymt i en byggnad från år 1900\, i Ulleråkersområdet i Uppsalas södra delar. \nMedicinhistoriska föremål visar utvecklingen inom medicinens olika specialiteter fram till nutid. Utställningar visar psykatriska behandlingsformer. \nMuseet visas instrument\, apparater och andra typer av material från de flesta av läkarvetenskapens specialiteter. Akademiska sjukhusets mer än trehundraåriga historia berättas och ett rum är fyllt med apotekshistoria. \nI den psykiatrihistoriska delen kan man ta del av Ulleråkers sjukhus långa historia. Här finns även utställningar om behandlingsformer\, verkstads- och terapiarbeten samt personalens arbetssituation. Ett rikt bildmaterial finns från området som länge var en egen stad i staden. \n\nBesök gärna länkarna nedan (externa länkar öppnas i ett nytt fönster/flik).\nMedicinhistoriska museet | Kommande event under sportlovet | Kommande event för familjen \nFoto: Pixabay \nDela evenemanget
URL:https://arkiv.gratisuppsala.se/event/smurfar-pa-medicinhistoriska-museet-vecka-8/2020-02-17/
LOCATION:Medicinhistoriska museet\, Eva Lagerwalls väg 8\, Uppsala\, 756 43 \, Sverige
CATEGORIES:Ålderskategori,Anmälan / Kostnad,Barn,Eventkategori,Familj,Geografisk kategori,Gratis,Ingen föranmälan,Museum,Skollov,Spel & tävling,Sportlov,Tipsrunda,Ungdom,Uppsala,Uppsala Kommun
ATTACH;FMTTYPE=image/jpeg:https://arkiv.gratisuppsala.se/wp-content/uploads/2020/02/smurf-139451_1280-e1581428476629.jpg
ORGANIZER;CN="Medicinhistoriska%20museet":MAILTO: info@mhm.uu.se 
GEO:59.8292826;17.6510246
X-APPLE-STRUCTURED-LOCATION;VALUE=URI;X-ADDRESS=Medicinhistoriska museet Eva Lagerwalls väg 8 Uppsala 756 43  Sverige;X-APPLE-RADIUS=500;X-TITLE=Eva Lagerwalls väg 8:geo:17.6510246,59.8292826
END:VEVENT
END:VCALENDAR