BEGIN:VCALENDAR
VERSION:2.0
PRODID:-//Gratis Uppsala - ECPv5.2.1//NONSGML v1.0//EN
CALSCALE:GREGORIAN
METHOD:PUBLISH
X-WR-CALNAME:Gratis Uppsala
X-ORIGINAL-URL:https://arkiv.gratisuppsala.se
X-WR-CALDESC:Händelser för Gratis Uppsala
BEGIN:VTIMEZONE
TZID:Europe/Stockholm
BEGIN:DAYLIGHT
TZOFFSETFROM:+0100
TZOFFSETTO:+0200
TZNAME:CEST
DTSTART:20160327T010000
END:DAYLIGHT
BEGIN:STANDARD
TZOFFSETFROM:+0200
TZOFFSETTO:+0100
TZNAME:CET
DTSTART:20161030T010000
END:STANDARD
END:VTIMEZONE
BEGIN:VEVENT
DTSTART;TZID=Europe/Stockholm:20160220T130000
DTEND;TZID=Europe/Stockholm:20160220T130000
DTSTAMP:20260420T091553
CREATED:20160215T094245Z
LAST-MODIFIED:20160215T094541Z
UID:6168-1455973200-1455973200@arkiv.gratisuppsala.se
SUMMARY:Snögraffiti på borggården
DESCRIPTION:Uppsala Konstmuseum arrangerar en annorlunda Familjelördag med Snögraffiti på borggården 20 februari. \nMan kommer att hålla till ute på Slottets borggård och utforska snön som\nmaterial tillsammans utifrån begreppet graffiti. Med kramsnö formas bokstäver\noch symboler i vitt. Det går också att spraya på snö.\nRobin Rundström från Graffitifrämjandet lär ut grunderna. Hela familjen är välkommen att prova på! \nFörsäljning av varm choklad samt närproducerat grillat och gott på borggården med\nCajsa’s Kök. Programmet är en del av festivalen Tusen vintrar.\nLäs mer om festivalen Tusen vintrar här. \nBild: pixabay.com. \nDela evenemanget
URL:https://arkiv.gratisuppsala.se/event/snograffiti-pa-borggarden/
LOCATION:Uppsala konstmuseum\, Drottning Christinas väg 1E\, Uppsala\, 75237 \, Sverige
CATEGORIES:Utställning
ATTACH;FMTTYPE=image/jpeg:https://arkiv.gratisuppsala.se/wp-content/uploads/2016/02/snökula.jpg
GEO:59.8532935;17.6351313
X-APPLE-STRUCTURED-LOCATION;VALUE=URI;X-ADDRESS=Uppsala konstmuseum Drottning Christinas väg 1E Uppsala 75237  Sverige;X-APPLE-RADIUS=500;X-TITLE=Drottning Christinas väg 1E:geo:17.6351313,59.8532935
END:VEVENT
END:VCALENDAR