BEGIN:VCALENDAR
VERSION:2.0
PRODID:-//Gratis Uppsala - ECPv5.2.1//NONSGML v1.0//EN
CALSCALE:GREGORIAN
METHOD:PUBLISH
X-WR-CALNAME:Gratis Uppsala
X-ORIGINAL-URL:https://arkiv.gratisuppsala.se
X-WR-CALDESC:Händelser för Gratis Uppsala
BEGIN:VTIMEZONE
TZID:Europe/Stockholm
BEGIN:DAYLIGHT
TZOFFSETFROM:+0100
TZOFFSETTO:+0200
TZNAME:CEST
DTSTART:20170326T010000
END:DAYLIGHT
BEGIN:STANDARD
TZOFFSETFROM:+0200
TZOFFSETTO:+0100
TZNAME:CET
DTSTART:20171029T010000
END:STANDARD
END:VTIMEZONE
BEGIN:VEVENT
DTSTART;TZID=Europe/Stockholm:20170509T200000
DTEND;TZID=Europe/Stockholm:20170509T213000
DTSTAMP:20260420T074038
CREATED:20170425T081013Z
LAST-MODIFIED:20170502T082004Z
UID:13466-1494360000-1494365400@arkiv.gratisuppsala.se
SUMMARY:Solceller på taket
DESCRIPTION:Informationsmöte om solceller\n\nMöte om hur du kan börja producera din egen solenergi på ditt tak genom att köpa in och installera solceller tillsammans med andra! \nIngen föranmälan nödvändig. \nFrågor som kommer att tas upp:\nHur många solpaneler behöver jag?\nVad kostar det och vad tjänar man på att installera solceller?\nHur säljer man elen som inte jag använder?\nKan man få bidrag?\nFungerar solcellerna på vintern och på tak som inte ligger mot söder?\nKan man kombinera solceller med andra energikällor?\nVad är det för skillnad på olika värme-pumpar\, pris och prestanda?\nVilka åtgärder du kan vidta för att spara pengar och miljö?\nMed mera… \nBilden hämtad från pixabay.com \n\n\n Dela evenemanget
URL:https://arkiv.gratisuppsala.se/event/solceller-pa-taket-gratis-informationsmote/
LOCATION:Almtunaskolan Oxelgatan 13\, Oxelgatan 13\, Uppsala\, Sverige
CATEGORIES:Motor,Vuxen
ATTACH;FMTTYPE=image/jpeg:https://arkiv.gratisuppsala.se/wp-content/uploads/2017/04/photovoltaic-352670_640.jpg
ORGANIZER;CN="Uppsala%20Solenergiprojekt%20-%20Jonas%20Nordstr%C3%B6m":MAILTO:uppsalasol@gmail.com
GEO:59.8631691;17.6623639
X-APPLE-STRUCTURED-LOCATION;VALUE=URI;X-ADDRESS=Almtunaskolan Oxelgatan 13 Oxelgatan 13 Uppsala Sverige;X-APPLE-RADIUS=500;X-TITLE=Oxelgatan 13:geo:17.6623639,59.8631691
END:VEVENT
END:VCALENDAR