BEGIN:VCALENDAR
VERSION:2.0
PRODID:-//Gratis Uppsala - ECPv5.2.1//NONSGML v1.0//EN
CALSCALE:GREGORIAN
METHOD:PUBLISH
X-WR-CALNAME:Gratis Uppsala
X-ORIGINAL-URL:https://arkiv.gratisuppsala.se
X-WR-CALDESC:Händelser för Gratis Uppsala
BEGIN:VTIMEZONE
TZID:Europe/Stockholm
BEGIN:DAYLIGHT
TZOFFSETFROM:+0100
TZOFFSETTO:+0200
TZNAME:CEST
DTSTART:20150329T010000
END:DAYLIGHT
BEGIN:STANDARD
TZOFFSETFROM:+0200
TZOFFSETTO:+0100
TZNAME:CET
DTSTART:20151025T010000
END:STANDARD
END:VTIMEZONE
BEGIN:VEVENT
DTSTART;TZID=Europe/Stockholm:20151123T101500
DTEND;TZID=Europe/Stockholm:20151123T101500
DTSTAMP:20260421T102640
CREATED:20151118T130910Z
LAST-MODIFIED:20151118T130910Z
UID:4715-1448273700-1448273700@arkiv.gratisuppsala.se
SUMMARY:Solinstrålning som energiresurs i den byggda miljön
DESCRIPTION:Datum: 2015-11-23 kl 10:15\nPlats: Ångströmlaboratoriet Å2001\nFöreläsare: Tekn dr Joakim Widén\nArrangör: Institutionen för teknikvetenskaper\nKontaktperson: Joakim Widén\nDocentföreläsning\n\n\nInstitutionen för teknikvetenskaper inbjuder härmed alla intresserade till docentföreläsning i ämnet teknisk fysik: Solinstrålning som energiresurs i den byggda miljön \nFöreläsare: tekn dr Joakim Widén\nOrdförande: professor Ewa Wäckelgård\nDocenturnämndens representant: professor Hana Baránková \nFöreläsningen ges på svenska. \nVälkomna! \n\n\nSammanfattning \nSolinstrålningen är motorn för de flesta förnybara energiflödena och biologiska processerna på jorden. Solenergi kan också omvandlas direkt till elektrisk energi i solcellssystem och har i och med utbyggnaden av byggnadsanknuten solelproduktion runtom i världen fått en ökad betydelse för energitillförseln i den byggda miljön. \nTrots att forskning om solinstrålningens egenskaper har bedrivits sedan långt tillbaka finns det fortfarande obesvarade frågor som har betydelse för effektiv användning och integration av solel i kraftsystemet. Det pågår också ett intensivt arbete runtom i världen med att samla in mer högupplösta data\, både rums- och tidsmässigt\, och att förbättra solinstrålningsprognoser. \nDen här föreläsningen ger en översikt över vilka egenskaper hos solinstrålningen som påverkar möjligheterna att bygga ut solkraft i stor skala i bebyggelsen och energisystemet\, med fokus på snabba effektfluktuationer och hur dessa kan hanteras. Den ger också en inblick i aktuell forskning och utveckling kring kartläggning av solinstrålning i byggd miljö\, simulering av geografiskt utbredd solelproduktion och prognosmetoder. \n\n\n\n\n Dela evenemanget
URL:https://arkiv.gratisuppsala.se/event/solinstralning-som-energiresurs-i-den-byggda-miljon/
LOCATION:Ångströmlaboratoriet\, Lägerhyddsvägen 1\, Uppsala\, 75237\, Sverige
CATEGORIES:Föreläsning och Kurs
GEO:59.8392565;17.6470745
X-APPLE-STRUCTURED-LOCATION;VALUE=URI;X-ADDRESS=Ångströmlaboratoriet Lägerhyddsvägen 1 Uppsala 75237 Sverige;X-APPLE-RADIUS=500;X-TITLE=Lägerhyddsvägen 1:geo:17.6470745,59.8392565
END:VEVENT
END:VCALENDAR