BEGIN:VCALENDAR
VERSION:2.0
PRODID:-//Gratis Uppsala - ECPv5.2.1//NONSGML v1.0//EN
CALSCALE:GREGORIAN
METHOD:PUBLISH
X-WR-CALNAME:Gratis Uppsala
X-ORIGINAL-URL:https://arkiv.gratisuppsala.se
X-WR-CALDESC:Händelser för Gratis Uppsala
BEGIN:VTIMEZONE
TZID:Europe/Stockholm
BEGIN:DAYLIGHT
TZOFFSETFROM:+0100
TZOFFSETTO:+0200
TZNAME:CEST
DTSTART:20160327T010000
END:DAYLIGHT
BEGIN:STANDARD
TZOFFSETFROM:+0200
TZOFFSETTO:+0100
TZNAME:CET
DTSTART:20161030T010000
END:STANDARD
END:VTIMEZONE
BEGIN:VEVENT
DTSTART;TZID=Europe/Stockholm:20160702T150000
DTEND;TZID=Europe/Stockholm:20160628T180000
DTSTAMP:20260420T051243
CREATED:20160628T081616Z
LAST-MODIFIED:20160628T081616Z
UID:7638-1467471600-1467136800@arkiv.gratisuppsala.se
SUMMARY:Sommar på Wik och visning av slottet
DESCRIPTION:Är du nyfiken på hur det ser ut inuti Wiks slott? I juli när allting grönskar intensivt och det är varmt i vattnet kan du gå på slottsvisning. Slottscaféet kommer att hålla öppet och du kan ta dig ett dopp nere vid bryggan efter rundvandringen. Du kan även ta en promenad i den vackra naturparken på Wikområdet. \nSlottscaféets öppettider\nÖppettider 2 juli–31 juli\nTis–sön kl. 11–17 \nCaféet finns i Borgsalen en trappa ned i slottet med uteplatser på framsidan av slottet. \nSlottsvisningar\nlördag 2\, 9\, 16\, 23\, 30 juli\nsöndag 3\, 10\, 17\, 24\, 31 juli \nVisningen börjar kl. 14.00. Varmt välkommen!\nFritt inträde. Slottet har möjlighet att ta in högst 25 personer åt gången. \nDela evenemanget
URL:https://arkiv.gratisuppsala.se/event/sommar-pa-wik-och-visning-av-slottet/2016-07-02/
LOCATION:Wiks folkhögskola\, Viks mur 35\, Uppsala\, 755 91\, Sverige
CATEGORIES:Samhälle,Utflykt / Picknick
ATTACH;FMTTYPE=image/jpeg:https://arkiv.gratisuppsala.se/wp-content/uploads/2016/06/Viks_slott.jpg
GEO:59.7364391;17.4675954
X-APPLE-STRUCTURED-LOCATION;VALUE=URI;X-ADDRESS=Wiks folkhögskola Viks mur 35 Uppsala 755 91 Sverige;X-APPLE-RADIUS=500;X-TITLE=Viks mur 35:geo:17.4675954,59.7364391
END:VEVENT
END:VCALENDAR