BEGIN:VCALENDAR
VERSION:2.0
PRODID:-//Gratis Uppsala - ECPv5.2.1//NONSGML v1.0//EN
CALSCALE:GREGORIAN
METHOD:PUBLISH
X-WR-CALNAME:Gratis Uppsala
X-ORIGINAL-URL:https://arkiv.gratisuppsala.se
X-WR-CALDESC:Händelser för Gratis Uppsala
BEGIN:VTIMEZONE
TZID:Europe/Stockholm
BEGIN:DAYLIGHT
TZOFFSETFROM:+0100
TZOFFSETTO:+0200
TZNAME:CEST
DTSTART:20160327T010000
END:DAYLIGHT
BEGIN:STANDARD
TZOFFSETFROM:+0200
TZOFFSETTO:+0100
TZNAME:CET
DTSTART:20161030T010000
END:STANDARD
END:VTIMEZONE
BEGIN:VEVENT
DTSTART;TZID=Europe/Stockholm:20160612T190000
DTEND;TZID=Europe/Stockholm:20160612T200000
DTSTAMP:20260421T002328
CREATED:20160610T083033Z
LAST-MODIFIED:20160610T083033Z
UID:7254-1465758000-1465761600@arkiv.gratisuppsala.se
SUMMARY:Sommarkonsert med kören Voces
DESCRIPTION:Kören Voces och Gun Dovelius bjuder på sommarkonsert i Vaksala kyrka. \nSöndag 12 juni kl 18.00. \nFritt inträde. \nVälkomna! \nDela evenemanget
URL:https://arkiv.gratisuppsala.se/event/sommarkonsert-med-koren-voces/
LOCATION:Vaksala kyrka\, Vaksala kyrkväg 2\, Uppsala\, 75445\, Sverige
CATEGORIES:Sång och Musik
ATTACH;FMTTYPE=image/jpeg:https://arkiv.gratisuppsala.se/wp-content/uploads/2015/11/vaksala.jpg
GEO:59.8762951;17.6848622
X-APPLE-STRUCTURED-LOCATION;VALUE=URI;X-ADDRESS=Vaksala kyrka Vaksala kyrkväg 2 Uppsala 75445 Sverige;X-APPLE-RADIUS=500;X-TITLE=Vaksala kyrkväg 2:geo:17.6848622,59.8762951
END:VEVENT
END:VCALENDAR