BEGIN:VCALENDAR
VERSION:2.0
PRODID:-//Gratis Uppsala - ECPv5.2.1//NONSGML v1.0//EN
CALSCALE:GREGORIAN
METHOD:PUBLISH
X-WR-CALNAME:Gratis Uppsala
X-ORIGINAL-URL:https://arkiv.gratisuppsala.se
X-WR-CALDESC:Händelser för Gratis Uppsala
BEGIN:VTIMEZONE
TZID:Europe/Stockholm
BEGIN:DAYLIGHT
TZOFFSETFROM:+0100
TZOFFSETTO:+0200
TZNAME:CEST
DTSTART:20170326T010000
END:DAYLIGHT
BEGIN:STANDARD
TZOFFSETFROM:+0200
TZOFFSETTO:+0100
TZNAME:CET
DTSTART:20171029T010000
END:STANDARD
END:VTIMEZONE
BEGIN:VEVENT
DTSTART;TZID=Europe/Stockholm:20170703T110000
DTEND;TZID=Europe/Stockholm:20170703T170000
DTSTAMP:20260420T034302
CREATED:20170523T070302Z
LAST-MODIFIED:20170529T064110Z
UID:14234-1499079600-1499101200@arkiv.gratisuppsala.se
SUMMARY:Sommarkul i Gränby
DESCRIPTION:Sommaraktiviteter för barn\nUnder vardagarna 3-28 juli\, mellan kl: 10:00-16:00 så kan du som är 9-13 år komma och prova på massa olika aktiviteter på Gränby fritidsgård. \nVeckan kommer att se ut så här: \n\nVecka 27: RÖRELSE – fotbollsturneringar\, utomhuslekar\, kubb\, brännboll\nVecka 28: UPPLEVELSE – lekar i regnbågsparken\, allaktivitetshuset\, grillning\, Hammarskog\, utflykt till Furuvik\nVecka 29: SKAPANDE – bakning\, gipsfigurer\, dukmålning\, göra armband och halsband\nVecka 30: KULTUR – clowneri\, filmdag\, musik med Just Dance\, spelturneringar\n\nFöranmälan krävs till vissa aktiviteter. Kontakta Hussein Youssef eller kom in till Gränby fritidsgård. \nLunch och mellanmål ingår. \nBild från pixabay.com \n  \nDela evenemanget
URL:https://arkiv.gratisuppsala.se/event/sommarkul-i-granby/2017-07-03/
LOCATION:Gränby fritidsgård\,  Liljefors Torg 1\, Uppsala\,  754 29\, Sverige
CATEGORIES:Kunskap och Lärande,Prova-på,Sport & Motion,Utflykt / Picknick
ATTACH;FMTTYPE=image/png:https://arkiv.gratisuppsala.se/wp-content/uploads/2017/05/sun-47083_640.png
ORGANIZER;CN="Uppsala%20kommun":MAILTO:uppsala.kommun@uppsala.se
GEO:59.8718525;17.6582693
X-APPLE-STRUCTURED-LOCATION;VALUE=URI;X-ADDRESS=Gränby fritidsgård  Liljefors Torg 1 Uppsala  754 29 Sverige;X-APPLE-RADIUS=500;X-TITLE=Liljefors Torg 1:geo:17.6582693,59.8718525
END:VEVENT
END:VCALENDAR