BEGIN:VCALENDAR
VERSION:2.0
PRODID:-//Gratis Uppsala - ECPv5.2.1//NONSGML v1.0//EN
CALSCALE:GREGORIAN
METHOD:PUBLISH
X-WR-CALNAME:Gratis Uppsala
X-ORIGINAL-URL:https://arkiv.gratisuppsala.se
X-WR-CALDESC:Händelser för Gratis Uppsala
BEGIN:VTIMEZONE
TZID:Europe/Stockholm
BEGIN:DAYLIGHT
TZOFFSETFROM:+0100
TZOFFSETTO:+0200
TZNAME:CEST
DTSTART:20160327T010000
END:DAYLIGHT
BEGIN:STANDARD
TZOFFSETFROM:+0200
TZOFFSETTO:+0100
TZNAME:CET
DTSTART:20161030T010000
END:STANDARD
END:VTIMEZONE
BEGIN:VEVENT
DTSTART;TZID=Europe/Stockholm:20160622T200000
DTEND;TZID=Europe/Stockholm:20160622T213000
DTSTAMP:20260423T135742
CREATED:20160616T133657Z
LAST-MODIFIED:20160617T072804Z
UID:7532-1466625600-1466631000@arkiv.gratisuppsala.se
SUMMARY:Somrigt så in i Norden! Musik i Sävja kyrka
DESCRIPTION:“Somrigt så in i Norden”\nKom till en sommarkväll som bjuder på sånger i olika stilar och klanger; solosånger och allsånger\, svängiga sånger och mjuka visor\, klassiskt och modernt. \nInger Knecht Lindmark\, piano/orgel och Sara Blomén Power\, sång\, bjuder på sommarsånger i olika stilar och klanger; solosånger och allsånger\, svängiga sånger och mjuka visor\, meditativa melodier och kvittrande koloraturer. \nSävja kyrka onsdag 22 juni kl 19.00. \nFritt inträde \nServering \nVälkomna! \nDela evenemanget
URL:https://arkiv.gratisuppsala.se/event/sommarkvall-musik-savja-kyrka/
LOCATION:Sävja kyrka\, Carl Von Linnés Väg 2\, Uppsala\, 75756\, Sverige
CATEGORIES:Sång och Musik
ATTACH;FMTTYPE=image/jpeg:https://arkiv.gratisuppsala.se/wp-content/uploads/2015/06/daisy-745089_640.jpg
GEO:59.8200024;17.7015132
X-APPLE-STRUCTURED-LOCATION;VALUE=URI;X-ADDRESS=Sävja kyrka Carl Von Linnés Väg 2 Uppsala 75756 Sverige;X-APPLE-RADIUS=500;X-TITLE=Carl Von Linnés Väg 2:geo:17.7015132,59.8200024
END:VEVENT
END:VCALENDAR