BEGIN:VCALENDAR
VERSION:2.0
PRODID:-//Gratis Uppsala - ECPv5.2.1//NONSGML v1.0//EN
CALSCALE:GREGORIAN
METHOD:PUBLISH
X-WR-CALNAME:Gratis Uppsala
X-ORIGINAL-URL:https://arkiv.gratisuppsala.se
X-WR-CALDESC:Händelser för Gratis Uppsala
BEGIN:VTIMEZONE
TZID:Europe/Stockholm
BEGIN:DAYLIGHT
TZOFFSETFROM:+0100
TZOFFSETTO:+0200
TZNAME:CEST
DTSTART:20160327T010000
END:DAYLIGHT
BEGIN:STANDARD
TZOFFSETFROM:+0200
TZOFFSETTO:+0100
TZNAME:CET
DTSTART:20161030T010000
END:STANDARD
END:VTIMEZONE
BEGIN:VEVENT
DTSTART;TZID=Europe/Stockholm:20160717T190000
DTEND;TZID=Europe/Stockholm:20160717T200000
DTSTAMP:20260421T102523
CREATED:20160706T114755Z
LAST-MODIFIED:20160706T114755Z
UID:7776-1468782000-1468785600@arkiv.gratisuppsala.se
SUMMARY:Sommarmusik - Passion för barock-och andra heta känslor
DESCRIPTION:Duetter och arior för två och en cembalo musik av Händel\, Monteverdi\, Bernstein mfl. Viveca Axell-Hedén sopran\, Ulrika Skarby mezzosopran\, Kerstin Baldwin Sterner cembalo. \nDela evenemanget
URL:https://arkiv.gratisuppsala.se/event/sommarmusik-passion-barock-och-andra-heta-kanslor/
LOCATION:Björklinge kyrka\, Gävlevägen\, Björklinge\,  743 64\, Sverige
CATEGORIES:Religion,Sång och Musik
ATTACH;FMTTYPE=image/jpeg:https://arkiv.gratisuppsala.se/wp-content/uploads/2016/07/Björklinge_church_Uppsala_Sweden_001.jpg
GEO:60.0206595;17.5553218
X-APPLE-STRUCTURED-LOCATION;VALUE=URI;X-ADDRESS=Björklinge kyrka Gävlevägen Björklinge  743 64 Sverige;X-APPLE-RADIUS=500;X-TITLE=Gävlevägen:geo:17.5553218,60.0206595
END:VEVENT
END:VCALENDAR