BEGIN:VCALENDAR
VERSION:2.0
PRODID:-//Gratis Uppsala - ECPv5.2.1//NONSGML v1.0//EN
CALSCALE:GREGORIAN
METHOD:PUBLISH
X-WR-CALNAME:Gratis Uppsala
X-ORIGINAL-URL:https://arkiv.gratisuppsala.se
X-WR-CALDESC:Händelser för Gratis Uppsala
BEGIN:VTIMEZONE
TZID:Europe/Stockholm
BEGIN:DAYLIGHT
TZOFFSETFROM:+0100
TZOFFSETTO:+0200
TZNAME:CEST
DTSTART:20200329T010000
END:DAYLIGHT
BEGIN:STANDARD
TZOFFSETFROM:+0200
TZOFFSETTO:+0100
TZNAME:CET
DTSTART:20201025T010000
END:STANDARD
END:VTIMEZONE
BEGIN:VEVENT
DTSTART;TZID=Europe/Stockholm:20200209T120000
DTEND;TZID=Europe/Stockholm:20200209T160000
DTSTAMP:20260421T131100
CREATED:20200205T110732Z
LAST-MODIFIED:20200205T110732Z
UID:41243-1581249600-1581264000@arkiv.gratisuppsala.se
SUMMARY:Söndagsöppet på Pumphuset i Uppsala
DESCRIPTION:Söndagsöppet på Pumphuset\nLek och lär om hållbarhet! Nu håller Pumphuset söndagsöppet under hela året. Där kan du testa ditt “toa-vett” med en pratande toalett\, utmana varandra i spelet\n“Avfallstrappan” och lösa uppdrag i “Maskinistens kur”. På Pumphuset finns något för alla\nåldrar. \nDatum: Alla söndagar 2020 förutom \n Söndagen den 12 april 2020 (STÄNGT)\nSöndagen den 21 juni 2020 (STÄNGT)\nSöndagen den 27 december 2020 (STÄNGT) \nTid: 12:00-16:00\nPlats: Pumphuset\, Munkgatan 1\, 753 09 Uppsala\nÅlder: Passar alla åldrar\nPris: Gratis \n  \n\nOm Pumphuset\nPumphuset är det första vattenverket i Uppsala och var i bruk 1875-1968. Huset används idag för att utbilda olika grupper i hållbarhet och historia\, med en rolig och interaktiv utställning från 2017.\n\n\n\n\n\n\n\nBesök gärna länkarna nedan (externa länkar öppnas i ett nytt fönster/flik).\nPumphuset i Uppsala | Kommande event på Sportlovet 2020 | Kommande event på Sommarlovet 2020 | Kommande event på Höstlovet 2020 | Kommande event på Jullovet 2020\n\n\nFoto: Från arrangören\n\n\n\n\n Dela evenemanget
URL:https://arkiv.gratisuppsala.se/event/sondagsoppet-pumphuset-2020/
LOCATION:Pumphuset\, Munkgatan 1\, Uppsala\, Sverige
CATEGORIES:Ålderskategori,Anmälan / Kostnad,Barn,Eventkategori,Familj,Föreläsning och Kurs,Främre Luthagen - Fjärdingen,Geografisk kategori,Gratis,Högtid,Höstlov,Jul,Jullov,Kunskap och Lärande,Prova-på,Skollov,Sommarlov,Sportlov,Ungdom,Uppsala,Utställning
ATTACH;FMTTYPE=image/jpeg:https://arkiv.gratisuppsala.se/wp-content/uploads/2020/02/sondagsoppet_pumphuset-e1580900745164.jpg
ORGANIZER;CN="Uppsala%20Vatten":MAILTO:uppsalavatten@uppsalavatten.se
GEO:59.8547321;17.6406278
X-APPLE-STRUCTURED-LOCATION;VALUE=URI;X-ADDRESS=Pumphuset Munkgatan 1 Uppsala Sverige;X-APPLE-RADIUS=500;X-TITLE=Munkgatan 1:geo:17.6406278,59.8547321
END:VEVENT
END:VCALENDAR