BEGIN:VCALENDAR
VERSION:2.0
PRODID:-//Gratis Uppsala - ECPv5.2.1//NONSGML v1.0//EN
CALSCALE:GREGORIAN
METHOD:PUBLISH
X-WR-CALNAME:Gratis Uppsala
X-ORIGINAL-URL:https://arkiv.gratisuppsala.se
X-WR-CALDESC:Händelser för Gratis Uppsala
BEGIN:VTIMEZONE
TZID:Europe/Stockholm
BEGIN:DAYLIGHT
TZOFFSETFROM:+0100
TZOFFSETTO:+0200
TZNAME:CEST
DTSTART:20150329T010000
END:DAYLIGHT
BEGIN:STANDARD
TZOFFSETFROM:+0200
TZOFFSETTO:+0100
TZNAME:CET
DTSTART:20151025T010000
END:STANDARD
END:VTIMEZONE
BEGIN:VEVENT
DTSTART;TZID=Europe/Stockholm:20151203T142500
DTEND;TZID=Europe/Stockholm:20151203T163000
DTSTAMP:20260420T074553
CREATED:20150827T090244Z
LAST-MODIFIED:20150827T090244Z
UID:3493-1449152700-1449160200@arkiv.gratisuppsala.se
SUMMARY:Spektakelslöjd.
DESCRIPTION:Torsdag\, 3 december 2015. Tid: 14:30. Spektakelslöjd. 10 torsdagar under hösten med start 24 september! \nAlla barn från 7 år och uppåt är välkomna att prova spektakelslöjd med Eva-Lotta Staffas och Sofia Thorell. Vi skapar i olika material\, och resultatet kan bli hur som helst och vad som helst! Spektakelslöjd på Stenhagenbiblioteket varje torsdag under våren med uppehåll under höstlovet. \nGratis och ingen föranmälan behövs. Längd: 2 timmar. Målgrupp: Från 7 år. \nDela evenemanget
URL:https://arkiv.gratisuppsala.se/event/spektakelslojd-10/
LOCATION:Stenhagenbiblioteket\, Herrhagsvägen 8\, Uppsala
END:VEVENT
END:VCALENDAR