BEGIN:VCALENDAR
VERSION:2.0
PRODID:-//Gratis Uppsala - ECPv5.2.1//NONSGML v1.0//EN
CALSCALE:GREGORIAN
METHOD:PUBLISH
X-WR-CALNAME:Gratis Uppsala
X-ORIGINAL-URL:https://arkiv.gratisuppsala.se
X-WR-CALDESC:Händelser för Gratis Uppsala
BEGIN:VTIMEZONE
TZID:Europe/Stockholm
BEGIN:DAYLIGHT
TZOFFSETFROM:+0100
TZOFFSETTO:+0200
TZNAME:CEST
DTSTART:20170326T010000
END:DAYLIGHT
BEGIN:STANDARD
TZOFFSETFROM:+0200
TZOFFSETTO:+0100
TZNAME:CET
DTSTART:20171029T010000
END:STANDARD
END:VTIMEZONE
BEGIN:VEVENT
DTSTART;TZID=Europe/Stockholm:20170909T140000
DTEND;TZID=Europe/Stockholm:20170909T180000
DTSTAMP:20260420T100558
CREATED:20170817T070248Z
LAST-MODIFIED:20170817T070248Z
UID:16636-1504965600-1504980000@arkiv.gratisuppsala.se
SUMMARY:Spela med Sverok på Kulturnatten
DESCRIPTION:Kulturnatten på Stadsbiblioteket\n\n\nÄr du intresserad av brädspel\, cosplay\, fantasy\, science fiction eller e-sport? Då är detta något för dig. På Kuturnatten kan du komma och testa på olika delar av spelhobbyn tillsammans med Sverok Mälardalen och lokala spelföreningar. \n\n\n\nSverok är ett av Sveriges största ungdomsförbund och består av ideella föreningar som sysslar med spel eller spelkultur. På Kulturnatten kommer de till Stadsbiblioteket. Ta chansen att testa på olika spel. \nBild från pixabay.com \n\n Dela evenemanget
URL:https://arkiv.gratisuppsala.se/event/spel-med-sverok/
LOCATION:Stadsbiblioteket\, Svartbäcksgatan 17\, Uppsala\, 75320\, Sverige
CATEGORIES:Kulturnatten,Litteratur och Poesi,Prova-på
ATTACH;FMTTYPE=image/jpeg:https://arkiv.gratisuppsala.se/wp-content/uploads/2017/08/kontroller-e1502956340287.jpg
ORGANIZER;CN="Bibliotek%20Uppsala":MAILTO:kundtjanst@bibliotekuppsala.se
GEO:59.8606206;17.6353278
X-APPLE-STRUCTURED-LOCATION;VALUE=URI;X-ADDRESS=Stadsbiblioteket Svartbäcksgatan 17 Uppsala 75320 Sverige;X-APPLE-RADIUS=500;X-TITLE=Svartbäcksgatan 17:geo:17.6353278,59.8606206
END:VEVENT
END:VCALENDAR