BEGIN:VCALENDAR
VERSION:2.0
PRODID:-//Gratis Uppsala - ECPv5.2.1//NONSGML v1.0//EN
CALSCALE:GREGORIAN
METHOD:PUBLISH
X-WR-CALNAME:Gratis Uppsala
X-ORIGINAL-URL:https://arkiv.gratisuppsala.se
X-WR-CALDESC:Händelser för Gratis Uppsala
BEGIN:VTIMEZONE
TZID:Europe/Stockholm
BEGIN:DAYLIGHT
TZOFFSETFROM:+0100
TZOFFSETTO:+0200
TZNAME:CEST
DTSTART:20200329T010000
END:DAYLIGHT
BEGIN:STANDARD
TZOFFSETFROM:+0200
TZOFFSETTO:+0100
TZNAME:CET
DTSTART:20201025T010000
END:STANDARD
END:VTIMEZONE
BEGIN:VEVENT
DTSTART;TZID=Europe/Stockholm:20200217T160000
DTEND;TZID=Europe/Stockholm:20200217T190000
DTSTAMP:20260420T032053
CREATED:20200203T145940Z
LAST-MODIFIED:20200203T145940Z
UID:41209-1581955200-1581966000@arkiv.gratisuppsala.se
SUMMARY:Spela rollspel – Tema väsen | Uppsala Stadsbibliotek 12år
DESCRIPTION:Spela rollspel – Tema väsen | Uppsala Stadsbibliotek\nPå Uppsala Stadsbibliotek spelas det rollspel med tema magiska väsen och dit kan du komma om du är 12 år eller äldre. \nDatum: Måndagen den 17 februari 2020\nTid: 16:00-19:00\nPlats: Uppsala Stadsbibliotek\nÅlder: Från 12 år\nPris: Gratis\nFrågor och anmälan: Mejla amanda.uisk@uppsala.se\nSamarrangör: Spelgillet V‒dala. \n\nOm Bibliotek Uppsala\n\n\nBibliotek Uppsala är en plats för möten\, kunskap och upplevelser. Tanken är att ge alla Uppsalabor tillgång till berättelser och information som kan ge nya insikter och nya perspektiv. Genom ett författarsamtal\, en bok\, en utställning\, en sagostund eller någon annan av de hundratals aktiviteter och arrangemang som erbjuds varje år. \n\n\n\nBesök gärna länkarna nedan (externa länkar öppnas i ett nytt fönster/flik).\nSpela rollspel på Uppsala Stadsbibliotek | Kommande event på Sportlovet | Kommande event för den spelsugne | Läs mer: Varför har vi sportlov i Sverige? \nFoto: Pixabay \nDela evenemanget
URL:https://arkiv.gratisuppsala.se/event/spela-rollspel-tema-vasen-uppsala-stadsbiblioteket/
LOCATION:Uppsala Stadsbiblioteket\, Svartbäcksgatan 17\, Uppsala\, Uppsala\, 753 75 Uppsala\, Sverige
CATEGORIES:Ålderskategori,Anmälan,Anmälan / Kostnad,Barn,Bibliotek,Centrum,Eventkategori,Geografisk kategori,Gratis,Skollov,Spel & tävling,Sportlov,Ungdom,Uppsala
ATTACH;FMTTYPE=image/jpeg:https://arkiv.gratisuppsala.se/wp-content/uploads/2020/02/role-playing-game-2536016_1280-e1580725547390.jpg
GEO:59.8606206;17.6353278
X-APPLE-STRUCTURED-LOCATION;VALUE=URI;X-ADDRESS=Uppsala Stadsbiblioteket Svartbäcksgatan 17 Uppsala Uppsala 753 75 Uppsala Sverige;X-APPLE-RADIUS=500;X-TITLE=Svartbäcksgatan 17:geo:17.6353278,59.8606206
END:VEVENT
END:VCALENDAR