BEGIN:VCALENDAR
VERSION:2.0
PRODID:-//Gratis Uppsala - ECPv5.2.1//NONSGML v1.0//EN
CALSCALE:GREGORIAN
METHOD:PUBLISH
X-WR-CALNAME:Gratis Uppsala
X-ORIGINAL-URL:https://arkiv.gratisuppsala.se
X-WR-CALDESC:Händelser för Gratis Uppsala
BEGIN:VTIMEZONE
TZID:Europe/Stockholm
BEGIN:DAYLIGHT
TZOFFSETFROM:+0100
TZOFFSETTO:+0200
TZNAME:CEST
DTSTART:20160327T010000
END:DAYLIGHT
BEGIN:STANDARD
TZOFFSETFROM:+0200
TZOFFSETTO:+0100
TZNAME:CET
DTSTART:20161030T010000
END:STANDARD
END:VTIMEZONE
BEGIN:VEVENT
DTSTART;TZID=Europe/Stockholm:20160116T120000
DTEND;TZID=Europe/Stockholm:20160116T150000
DTSTAMP:20260419T231518
CREATED:20160113T135003Z
LAST-MODIFIED:20160113T135338Z
UID:5778-1452945600-1452956400@arkiv.gratisuppsala.se
SUMMARY:Spela schack!
DESCRIPTION:Prova på att spela schack och lär dig grunderna i spelet av instruktörer från Upsala Allmänna Schacksällskap. \nAktiviteten vänder sig till barn och är gratis. Ingen föranmälan behövs.\nLördag 16 januari kl 12-15 på Stadsbibliotekets barn- och ungdomsavdelning. \nDela evenemanget
URL:https://arkiv.gratisuppsala.se/event/spela-schack/
LOCATION:Stadsbiblioteket\, Svartbäcksgatan 17
CATEGORIES:Föreläsning och Kurs
ATTACH;FMTTYPE=image/jpeg:https://arkiv.gratisuppsala.se/wp-content/uploads/2016/01/Schack.jpg
ORGANIZER;CN="Bibliotek%20Uppsala":MAILTO:kundtjanst@bibliotekuppsala.se
GEO:59.8606206;17.6353278
X-APPLE-STRUCTURED-LOCATION;VALUE=URI;X-ADDRESS=Stadsbiblioteket Svartbäcksgatan 17;X-APPLE-RADIUS=500;X-TITLE=Svartbäcksgatan 17:geo:17.6353278,59.8606206
END:VEVENT
END:VCALENDAR