BEGIN:VCALENDAR
VERSION:2.0
PRODID:-//Gratis Uppsala - ECPv5.2.1//NONSGML v1.0//EN
CALSCALE:GREGORIAN
METHOD:PUBLISH
X-WR-CALNAME:Gratis Uppsala
X-ORIGINAL-URL:https://arkiv.gratisuppsala.se
X-WR-CALDESC:Händelser för Gratis Uppsala
BEGIN:VTIMEZONE
TZID:Europe/Stockholm
BEGIN:DAYLIGHT
TZOFFSETFROM:+0100
TZOFFSETTO:+0200
TZNAME:CEST
DTSTART:20200329T010000
END:DAYLIGHT
BEGIN:STANDARD
TZOFFSETFROM:+0200
TZOFFSETTO:+0100
TZNAME:CET
DTSTART:20201025T010000
END:STANDARD
END:VTIMEZONE
BEGIN:VEVENT
DTSTART;TZID=Europe/Stockholm:20200218T100000
DTEND;TZID=Europe/Stockholm:20200218T140000
DTSTAMP:20260421T120950
CREATED:20200217T143228Z
LAST-MODIFIED:20200218T120153Z
UID:42501-1582020000-1582034400@arkiv.gratisuppsala.se
SUMMARY:Sportlovskul vid Dalkarlskärret | Biotopia
DESCRIPTION:Sportlovskul vid Dalkarlskärret | Biotopia\nPersonal från Naturskolan\, Upplandsstiftelsen och Hammarskogs Naturreservat tar emot deltagare inne i skogen för Sportlovskul vid Dalkarlskärret. Skyltar och snitslar sätts upp från parkeringen vid just Dalkarlskärret men också från parkeringen vid Svälthammar – för att det skall bli lätt att hitta fram. \nAlla är välkomna! Barn ska ha sällskap av någon vuxen. Personalen på plats ansvarar för att visa hur aktiviteterna genomförs och lånar ut grejor\, deltagare som kommer dit och för barnen. Aktiviteterna är kostnadsfria. \n\nAKTIVITETER SOM ERBJUDS PÅ SPORTLOVSKUL VID DALKARLSKÄRRET:\n \n\nGrilla egen medhavd matsäck\nBaka bröd över elden\nBygga hinderbana och kojor\nTälja\nTitta på fåglar\, göra egen eld och annat kul.\n\n\nDatum: \nTisdag 18 februari 2020\nOnsdag 19 februari 2020\nTorsdag 20 februari 2020 \nTid: 10.00 – 14.00\nPlats: Dalkarlskärret i Hammarskog\nÅlder: Barn i vuxet sällskap\nPris: Gratis\nAnmälan/Biljett: Nej\nHitta dit: \nFrån Uppsala C till Hammarskog är det en dryg mil. UL buss 107 avgår från centralstationen – mot Vreta. Gå av bussen vid Vreta Västra. Bussen går till exempel kl.8.35 (framme kl.8.57 – kanske lite tidigt…)\, 10.05 (framme 10.27)\, 11.05 (framme 11.27). Buss 107 går tillbaka från samma hållplats (= samma sida av vägen) till exempel klockan kl. 12.27; 13.27 och 14.45. \nFrån Vreta Västra går ni tillbaka en bit längs bilvägen\, och sedan in västerut på grusvägen mot Hammarskog. Från busshållplatsen i Vreta till parkeringen vid Dalkarlskärret är det ungefär 1 km att gå. \nVeta mer:   \nVill du veta mer mejla naturskolan@uppsala.se\neller ring 018 – 727 80 54 \nÖvrigt:  \nRaststugan vid Herrgårdsparkeringen i Hammarskog är öppen\, och där finns också en grillplats med ved. \nOBS: Grupper från fritidshem och fritidsklubbar ska boka i förväg. För ytterligare information eller för att anmäla fritidsklubbar/fritidshem\, mejla naturskolan@uppsala.se  \n\nOm Dalkarlskärret\nDalkarlskärret ligger på cykelavstånd från Uppsala\, ca 1 mil söder om centrum. Platsen är en riktig pärla för den som tycker om att titta på vadar- och sjöfåglar\, eller bara vill finna en trevlig plats för en utflykt med matsäck. \nVintertid lägger sig isen tidigt på kärret. Så här hittar man oftast säsongens första plogade skridskobana på naturis\, en kilometerlång slinga mellan vassruggarna. \nVid Dalkarlskärret finns en grillplats och runt om står picknickborden redo att ta emot matsäckshungriga besökare. Kanske lockar en promenad längs den 1\,2 km långa stigen runt kärret? På strandängarna betar hästar och kor. \n\nBesök gärna länkarna nedan (externa länkar öppnas i ett nytt fönster/flik).\nSportlov på Biotopia |  Naturkartan – Dalkarlskärret | Kommande event på Sportlovet \nBild: Pixabay \nDela evenemanget
URL:https://arkiv.gratisuppsala.se/event/sportlovskul-vid-dalkarlskarret-v-8/2020-02-18/
LOCATION:Dalkarlskärret\, Hammarskog\, Dalkarlskärret\, Hammarskog\, Uppsala\, Sverige
CATEGORIES:Ålderskategori,Anmälan / Kostnad,Barn,Eventkategori,Familj,Geografisk kategori,Gratis,Ingen föranmälan,Natur,Skollov,Sportlov,Uppsala,Uppsala Kommun,Utflykt / Picknick,Utflyktsmål,Utomhusaktivitet
ATTACH;FMTTYPE=image/png:https://arkiv.gratisuppsala.se/wp-content/uploads/2020/02/camping-1086731_1280-e1581943065354.png
GEO:59.7769589;17.5850816
X-APPLE-STRUCTURED-LOCATION;VALUE=URI;X-ADDRESS=Dalkarlskärret Hammarskog Dalkarlskärret Hammarskog Uppsala Sverige;X-APPLE-RADIUS=500;X-TITLE=Dalkarlskärret\, Hammarskog:geo:17.5850816,59.7769589
END:VEVENT
END:VCALENDAR